BEGIN:VCALENDAR
VERSION:2.0
PRODID:-//POLSCA - ECPv5.9.1//NONSGML v1.0//EN
CALSCALE:GREGORIAN
METHOD:PUBLISH
X-WR-CALNAME:POLSCA
X-ORIGINAL-URL:https://polsca.pan.pl/en
X-WR-CALDESC:Events for POLSCA
BEGIN:VTIMEZONE
TZID:Europe/Warsaw
BEGIN:DAYLIGHT
TZOFFSETFROM:+0100
TZOFFSETTO:+0200
TZNAME:CEST
DTSTART:20220327T010000
END:DAYLIGHT
BEGIN:STANDARD
TZOFFSETFROM:+0200
TZOFFSETTO:+0100
TZNAME:CET
DTSTART:20221030T010000
END:STANDARD
END:VTIMEZONE
BEGIN:VEVENT
DTSTART;TZID=Europe/Warsaw:20220922T093000
DTEND;TZID=Europe/Warsaw:20220922T120000
DTSTAMP:20260420T102821
CREATED:20220902T131353Z
LAST-MODIFIED:20220902T131355Z
UID:9815-1663839000-1663848000@polsca.pan.pl
SUMMARY:Horizon Europe Navigators MeetUp - online tools
DESCRIPTION:The upcoming meeting of the Horizon Europe Navigators\, a network of science managers from research institutes of the Polish Academy of Sciences\, will be devoted to the topic of online tools for Horizon Europe projects\, with a focus on the Polish Academy of Sciences participation in Horizon Europe. \n\n\n\nParticipants of the meeting will have the opportunity to discover functionalities of online tools curated directly by the European Commission like Horizon Dashboard. NCP experts will present data for Horizon Europe and Horizon 2020 projects\, with the focus on Polish participation and that of institutes of the Polish Academy of Sciences.
URL:https://polsca.pan.pl/en/events/horizon-europe-navigators-meetup-online-tools/
LOCATION:NAŁĘCZ INSTITUTE OF BIOCYBERNETICS AND BIOMEDICAL ENGINEERING PAS\, UL. KSIĘCIA TROJDENA 4\, WARSAW\, 02-109\, Poland
GEO:50.8369933;4.3704063
X-APPLE-STRUCTURED-LOCATION;VALUE=URI;X-ADDRESS=NAŁĘCZ INSTITUTE OF BIOCYBERNETICS AND BIOMEDICAL ENGINEERING PAS UL. KSIĘCIA TROJDENA 4 WARSAW 02-109 Poland;X-APPLE-RADIUS=500;X-TITLE=UL. KSIĘCIA TROJDENA 4:geo:4.3704063,50.8369933
END:VEVENT
END:VCALENDAR