BEGIN:VCALENDAR
VERSION:2.0
PRODID:-//POLSCA - ECPv5.9.1//NONSGML v1.0//EN
CALSCALE:GREGORIAN
METHOD:PUBLISH
X-WR-CALNAME:POLSCA
X-ORIGINAL-URL:https://polsca.pan.pl/en
X-WR-CALDESC:Events for POLSCA
BEGIN:VTIMEZONE
TZID:Europe/Warsaw
BEGIN:DAYLIGHT
TZOFFSETFROM:+0100
TZOFFSETTO:+0200
TZNAME:CEST
DTSTART:20230326T010000
END:DAYLIGHT
BEGIN:STANDARD
TZOFFSETFROM:+0200
TZOFFSETTO:+0100
TZNAME:CET
DTSTART:20231029T010000
END:STANDARD
END:VTIMEZONE
BEGIN:VEVENT
DTSTART;TZID=Europe/Warsaw:20230112T130000
DTEND;TZID=Europe/Warsaw:20230112T150000
DTSTAMP:20260419T231247
CREATED:20230106T141658Z
LAST-MODIFIED:20230109T135534Z
UID:10054-1673528400-1673535600@polsca.pan.pl
SUMMARY:Horizon Europe Navigators MeetUp: Research Managers & Administrators (RMAs)
DESCRIPTION:The first meeting of 2023 of the network of research managers across institutes of the Polish Academy of Sciences\, the so-called Horizon Europe Navigators\, will cover the subject of research management itself. In the introductory part of the meeting\, the ERA Action 17 will be presented by Stijn Delaure. Subsequently\, two perspectives on existing and vibrant communities of RMAs will be presented. Nik Claesen will provide first-hand information on EARMA (European Association of Research Managers and Administrators). Subsequently\, Cyprian Tomasik together with Zygmunt Krasiński will introduce participants to the KRAB\, Polish national association of EU-funded project coordinators. \n\n\n\nThe meeting is part of a series of dedicated events for research managers at scientific institutes of the Polish Academy of Sciences\, carried out in synergy with the PASIFIC programme.
URL:https://polsca.pan.pl/en/events/horizon-europe-navigators-meetup-research-managers-administrators-rmas-2/
LOCATION:NAŁĘCZ INSTITUTE OF BIOCYBERNETICS AND BIOMEDICAL ENGINEERING PAS\, UL. KSIĘCIA TROJDENA 4\, WARSAW\, 02-109\, Poland
GEO:50.8369933;4.3704063
X-APPLE-STRUCTURED-LOCATION;VALUE=URI;X-ADDRESS=NAŁĘCZ INSTITUTE OF BIOCYBERNETICS AND BIOMEDICAL ENGINEERING PAS UL. KSIĘCIA TROJDENA 4 WARSAW 02-109 Poland;X-APPLE-RADIUS=500;X-TITLE=UL. KSIĘCIA TROJDENA 4:geo:4.3704063,50.8369933
END:VEVENT
END:VCALENDAR