BEGIN:VCALENDAR
VERSION:2.0
PRODID:-//POLSCA - ECPv5.9.1//NONSGML v1.0//EN
CALSCALE:GREGORIAN
METHOD:PUBLISH
X-WR-CALNAME:POLSCA
X-ORIGINAL-URL:https://polsca.pan.pl/en
X-WR-CALDESC:Events for POLSCA
BEGIN:VTIMEZONE
TZID:Europe/Warsaw
BEGIN:DAYLIGHT
TZOFFSETFROM:+0100
TZOFFSETTO:+0200
TZNAME:CEST
DTSTART:20230326T010000
END:DAYLIGHT
BEGIN:STANDARD
TZOFFSETFROM:+0200
TZOFFSETTO:+0100
TZNAME:CET
DTSTART:20231029T010000
END:STANDARD
END:VTIMEZONE
BEGIN:VEVENT
DTSTART;TZID=Europe/Warsaw:20230209T090000
DTEND;TZID=Europe/Warsaw:20230209T153000
DTSTAMP:20260421T171033
CREATED:20230112T121655Z
LAST-MODIFIED:20230112T151808Z
UID:10155-1675933200-1675956600@polsca.pan.pl
SUMMARY:Horizon Europe Navigators MeetUp: Strengthening the chances of success in Horizon Europe
DESCRIPTION:The PolSCA Office invites representatives of the local community of the Polish Academy of Sciences in Poznań to a meeting to discuss activities supporting the units of the Polish Academy of Sciences and an expert meeting on issues related to Horizon Europe\, as well as to present the activities of the office. Registration for the meeting is by invitation.  \n\n\n\nThe agenda of the day includes a working meeting with members of the Horizon Europe Navigators Network representing Institutes based in Wielkopolska.  \n\n\n\nA dedicated meeting for the management of the Institutes of the Polish Academy of Sciences has been planned\, during which the tools and areas of support of the PolSCA Office for the Institutes of the Polish Academy of Sciences will be presented\, the possibilities of influencing the research agenda and increasing participation in Horizon Europe\, as well as a discussion on the needs of units in the field of support and cooperation opportunities.  \n\n\n\nThe next part of MeetUp will be devoted to a meeting with researchers and project managers of the Institutes of the Polish Academy of Sciences\, during which the possibilities of support for applicants for Horizon Europe and a working discussion on the needs of units in the field of support and cooperation opportunities will be presented. Later\, participants will be able to take part in parallel sessions regarding possibilities of participating in the competitions of the Work Program 2023-24 of Horizon Europe\, conducted by Experts of the National Contact Point of the National Center for Research and Development:  \n\n\n\nCluster 1. Health \n\n\n\nCluster 6. Food\, bioeconomy\, natural resources\, agriculture and the environment.\n\n\n\nThe MeetUp will close with a session dedicated to the strategic approach to Horizon Europe and ways to achieve grant success\, which will be conducted by Experts of the Horizontal Contact Point for Western Poland. \n\n\n\n\n\n\n\nAfter the end of the MeetUp\, there will be a dedicated meeting for members of the working team on simplification in Horizon Europe operating within the HE Navigators network on the evaluation of the framework program and consultation of the strategic plan. \n\n\n\n\n\n\n\nIn 2021\, the PolSCA Office – in synergy with the PASIFIC program – initiated a network of science managers as part of the Polish Academy of Sciences\, the so-called Horizon Europe Navigators. \n\n\n\n\n\n\n\n\n\n\n\n\n\n\n\n\n\nIdentified among the employees of the Institutes of the Polish Academy of Sciences\, HE Navigators support the effective transfer of information in the scientific environment of their Institutes and the effective distribution of the training offer of the PolSCA Office and partners. The common goal of the PolSCA Office and the HE Navigators Network is to deepen knowledge and exchange good practices\, and consequently – to increase the participation of the Institutes of the Polish Academy of Sciences in the Horizon Europe framework programme. Currently\, 62 institutes of the Polish Academy of Sciences and several auxiliary units of the Polish Academy of Sciences are involved in the network.  \n\n\n\nIn 2022\, the PolSCA Office organized a number of dedicated meetings – in online format – for members of the network\, the so-called “HE Navigators MeetUps” and several meetings as part of the series “PolSCA webinars on Horizon Europe” open to the environment of academics and research managers at the Academy. All these events were online meetings.v
URL:https://polsca.pan.pl/en/events/horizon-europe-navigators-meetup-strengthening-the-chances-of-success-in-horizon-europe/
LOCATION:NAŁĘCZ INSTITUTE OF BIOCYBERNETICS AND BIOMEDICAL ENGINEERING PAS\, UL. KSIĘCIA TROJDENA 4\, WARSAW\, 02-109\, Poland
GEO:50.8369933;4.3704063
X-APPLE-STRUCTURED-LOCATION;VALUE=URI;X-ADDRESS=NAŁĘCZ INSTITUTE OF BIOCYBERNETICS AND BIOMEDICAL ENGINEERING PAS UL. KSIĘCIA TROJDENA 4 WARSAW 02-109 Poland;X-APPLE-RADIUS=500;X-TITLE=UL. KSIĘCIA TROJDENA 4:geo:4.3704063,50.8369933
END:VEVENT
END:VCALENDAR