BEGIN:VCALENDAR
VERSION:2.0
PRODID:-//POLSCA - ECPv5.9.1//NONSGML v1.0//EN
CALSCALE:GREGORIAN
METHOD:PUBLISH
X-WR-CALNAME:POLSCA
X-ORIGINAL-URL:https://polsca.pan.pl/en
X-WR-CALDESC:Events for POLSCA
BEGIN:VTIMEZONE
TZID:Europe/Warsaw
BEGIN:DAYLIGHT
TZOFFSETFROM:+0100
TZOFFSETTO:+0200
TZNAME:CEST
DTSTART:20230326T010000
END:DAYLIGHT
BEGIN:STANDARD
TZOFFSETFROM:+0200
TZOFFSETTO:+0100
TZNAME:CET
DTSTART:20231029T010000
END:STANDARD
END:VTIMEZONE
BEGIN:VEVENT
DTSTART;TZID=Europe/Warsaw:20230404T123000
DTEND;TZID=Europe/Warsaw:20230404T150000
DTSTAMP:20260423T073948
CREATED:20230321T135604Z
LAST-MODIFIED:20230323T101902Z
UID:10361-1680611400-1680620400@polsca.pan.pl
SUMMARY:IGLO OPEN: Horizon Europe support for R&I community in Ukraine. State of play and ways forward
DESCRIPTION:PolSCA Office of the Polish Academy of Sciences in Brussels has a pleasure to invite you to the IGLO OPEN event taking place on Tuesday\, 4th April (13.30 – 15.00) under the title: “European support for R&I community in Ukraine; state of play one year after the war started and beyond”. \n\n\n\n\n\n\n\n\n\n\n\nWith this event we would like to deliver a summary of what has been achieved over the past year or so in terms of supporting scientific community of Ukraine with the means of EU R&I policy and instruments. Moreover\, we hope to provide meeting participants with up-to-date information on what else might be implemented in order to support Ukrainian academic sector. \n\n\n\nWe are honored to host the following speakers: \n\n\n\nMs Ruta ZARNAUSKAITE\, Head of Unit at Horizon Europe Association\, DG for Research & Innovation\, European CommissionMs Marija FEDOTOVAITE\, Policy Officer at Marie Skłodowska-Curie Actions Unit\, DG for Education\, Youth\, Sport & Culture\, European CommissionMr Mykhailo HREBENIUK\, First secretary\, Mission of Ukraine to the EU\n\n\n\n\n\n\n\nThe event is hosted by the PolSCA Office. The venue is kindly provided by the Brussels Office of the National Centre for Research and Development (NCBR/BSP) at Rue Belliard 40\, 5th floor.  Please join us for a light lunch provided between 12.30 and 13.30\, before the actual seminar starts. \n\n\n\nTo confirm your participation please register through the following link until Thursday\, March 30. The email with the final confirmation of your participation will be sent to you one week before the event.
URL:https://polsca.pan.pl/en/events/iglo-open-european-support-for-r-state-of-play-one-year-after-the-war-started-and-beyond/
LOCATION:NAŁĘCZ INSTITUTE OF BIOCYBERNETICS AND BIOMEDICAL ENGINEERING PAS\, UL. KSIĘCIA TROJDENA 4\, WARSAW\, 02-109\, Poland
ATTACH;FMTTYPE=image/png:https://polsca.pan.pl/wp-content/uploads/IGLO-Open-by-PolSCA-PAN_2023-04-04.png
GEO:50.8369933;4.3704063
X-APPLE-STRUCTURED-LOCATION;VALUE=URI;X-ADDRESS=NAŁĘCZ INSTITUTE OF BIOCYBERNETICS AND BIOMEDICAL ENGINEERING PAS UL. KSIĘCIA TROJDENA 4 WARSAW 02-109 Poland;X-APPLE-RADIUS=500;X-TITLE=UL. KSIĘCIA TROJDENA 4:geo:4.3704063,50.8369933
END:VEVENT
END:VCALENDAR