BEGIN:VCALENDAR
VERSION:2.0
PRODID:-//POLSCA - ECPv5.9.1//NONSGML v1.0//EN
CALSCALE:GREGORIAN
METHOD:PUBLISH
X-WR-CALNAME:POLSCA
X-ORIGINAL-URL:https://polsca.pan.pl/en
X-WR-CALDESC:Events for POLSCA
BEGIN:VTIMEZONE
TZID:Europe/Warsaw
BEGIN:DAYLIGHT
TZOFFSETFROM:+0100
TZOFFSETTO:+0200
TZNAME:CEST
DTSTART:20260329T010000
END:DAYLIGHT
BEGIN:STANDARD
TZOFFSETFROM:+0200
TZOFFSETTO:+0100
TZNAME:CET
DTSTART:20261025T010000
END:STANDARD
END:VTIMEZONE
BEGIN:VEVENT
DTSTART;TZID=Europe/Warsaw:20260309T000000
DTEND;TZID=Europe/Warsaw:20260311T235959
DTSTAMP:20260420T210515
CREATED:20251208T151036Z
LAST-MODIFIED:20260316T105252Z
UID:14186-1773014400-1773273599@polsca.pan.pl
SUMMARY:V4 Training for Research Project Managers - 18th edition!
DESCRIPTION:We invite you to participate in the next edition of our flagship training course\, ‘V4 Training for Research Project Managers’\, which will take place in Brussels on 9\, 10 and 11 March 2026. As in previous years\, we are co-organising it in cooperation with the Czech Liaison Office for Education and Science (CZELO)\, the National Research\, Development and Innovation Office in Hungary (NRDIO) and the Slovak Liaison Office for Research and Development (SLORD). \n\n\n\nThe V4 Training programme includes presentations by representatives of the European Commission\, experts from liaison offices and Belgian academic centres. In addition\, we encourage participants to actively participate in group discussions and networking meetings\, during which they can exchange experiences. \n\n\n\nFurther details and application form: HERE \n\n\n\nSummary of the event: HERE
URL:https://polsca.pan.pl/en/events/v4-training-for-research-project-managers-18-edycja/
LOCATION:NAŁĘCZ INSTITUTE OF BIOCYBERNETICS AND BIOMEDICAL ENGINEERING PAS\, UL. KSIĘCIA TROJDENA 4\, WARSAW\, 02-109\, Poland
GEO:50.8369933;4.3704063
X-APPLE-STRUCTURED-LOCATION;VALUE=URI;X-ADDRESS=NAŁĘCZ INSTITUTE OF BIOCYBERNETICS AND BIOMEDICAL ENGINEERING PAS UL. KSIĘCIA TROJDENA 4 WARSAW 02-109 Poland;X-APPLE-RADIUS=500;X-TITLE=UL. KSIĘCIA TROJDENA 4:geo:4.3704063,50.8369933
END:VEVENT
BEGIN:VEVENT
DTSTART;TZID=Europe/Warsaw:20260325T000000
DTEND;TZID=Europe/Warsaw:20260325T235959
DTSTAMP:20260420T210515
CREATED:20260204T090508Z
LAST-MODIFIED:20260331T122955Z
UID:14393-1774396800-1774483199@polsca.pan.pl
SUMMARY:CROSSPATHS Matchmaking Event on Horizon Europe Cluster 6 
DESCRIPTION:The CROSSPATHS Matchmaking Event is a one-day networking and brokerage meeting dedicated to research and innovation actors interested in building project consortia for upcoming Horizon Europe Cluster 6 calls. The event is organised by the CROSSPATHS project consortium\, in cooperation with the Brussels-based liaison offices ETAG and PolSCA PAN\, together with a wider group of partner institutions from across Europe. \n\n\n\n\n\n\n\nThe event will take place on 25 March 2026 in Brussels\, combining EU policy perspectives with a highly practical approach to project cooperation \n\n\n\n \n\n\n\nThe programme focuses on hands-on matchmaking\, including short pitching sessions and pre-arranged one-to-one bilateral meetings. The agenda is structured around three Horizon Europe Cluster 6 destinations:  \n\n\n\nCircular economy and bioeconomy sectors \n\n\n\nFair\, healthy and environment-friendly food systems from primary production to consumption \n\n\n\nBiodiversity and ecosystem services.  \n\n\n\nMatchmaking activities will be complemented by sessions addressing the policy context of the 2026–2027 calls\, lessons learned from Horizon Europe projects\, and forward-looking reflections on future framework programme priorities.  \n\n\n\n \n\n\n\nList of selected topics under CL6 HE  \n\n\n\nAgenda of the event \n\n\n\n \n\n\n\nParticipation requires prior registration (expression of interest) via the relevant Brussels-based research and innovation liaison office (including PolSCA PAN for participants from Poland). Invited participants will subsequently be asked to create a profile in the b2match online matchmaking system\, enabling the presentation of expertise and the scheduling of bilateral meetings during the on-site event in Brussels.  \n\n\n\n \n\n\n\nFor more details follow the event announcement HERE  \n\n\n\nSummary of the event can be found HERE.
URL:https://polsca.pan.pl/en/events/crosspaths-matchmaking-event-on-horizon-europe-cluster-6/
LOCATION:NAŁĘCZ INSTITUTE OF BIOCYBERNETICS AND BIOMEDICAL ENGINEERING PAS\, UL. KSIĘCIA TROJDENA 4\, WARSAW\, 02-109\, Poland
GEO:50.8369933;4.3704063
X-APPLE-STRUCTURED-LOCATION;VALUE=URI;X-ADDRESS=NAŁĘCZ INSTITUTE OF BIOCYBERNETICS AND BIOMEDICAL ENGINEERING PAS UL. KSIĘCIA TROJDENA 4 WARSAW 02-109 Poland;X-APPLE-RADIUS=500;X-TITLE=UL. KSIĘCIA TROJDENA 4:geo:4.3704063,50.8369933
END:VEVENT
BEGIN:VEVENT
DTSTART;TZID=Europe/Warsaw:20260521T000000
DTEND;TZID=Europe/Warsaw:20260521T235959
DTSTAMP:20260420T210515
CREATED:20260303T150346Z
LAST-MODIFIED:20260420T142535Z
UID:14515-1779321600-1779407999@polsca.pan.pl
SUMMARY:MSCA at 30: Research mobility & bridging gaps across Europe. REGISTRATION IS NOW OPEN!
DESCRIPTION:Thirty years of MSCA Programme is more than an anniversary. It’s a chance to look honestly at what mobility has enabled across Europe\, what still blocks talent circulation\, and how MSCA can better help close gaps between research and innovation ecosystems as the FP10 debate approaches. This event is designed as a working conversation participatory\, practical\, and built around real experience rather than ceremony. REGISTER NOW nad join us on 21 May in Brussels! \n\n\n\n\n\n\n\nThis event is designed for people who want to move beyond talking about “success stories” and get into the practicalities: mobility\, institutional barriers\, pathways for returning home\, building capacity in Central European countries\, and how MSCA instruments can do even more to help shape a more coherent European Research Area. \n\n\n\n\nREGISTRATION FORM\n\n\n\n\n \n\n\n\n \n\n\n\nThematic sessions and more! \n\n\n\n \n\n\n\nWall of Opportunities: Interactive networking space. An opening networking format designed to help participants quickly identify potential partners\, host institutions\, secondment opportunities and contacts for further cooperation.\n\n\n\n30 Years of MSCA: What Built Europe’s Talent Programme and what’s next for FP10. An opening session devoted to the achievements of MSCA and the future of the programme in the context of the next European framework.Special Guest: Mr Manuel ALEXIO\, Member of the Cabinet\, Commissioner for Startups\, Research and Innovation\, European Commission\n\n\n\nMaking MSCA works: career paths\, institutions\, and cross-border reality. A panel on how MSCA shapes careers\, mobility\, working conditions and the development of cooperation across different research ecosystems in Europe in practice.ędzy różnymi ekosystemami badawczymi w Europie.Moderator: Dr Tomasz POPRAWKA\, Director of PolSCA PAS Office BrusselsGuests: Claire MOREL – Head of Unit\, DG Education\, Youth\, Sport and Culture (DG EAC)\, European Commission; Serena GARGIULO\, PhD – Vice Chair of the MCAA Benelux Chapter\, Belgium; Béla FISER\, PhD – Chair of the MCAA Hungary Chapter\, University of Miskolc\, Hungary; Michael NONES\, PHD – Board Member of the MCAA Poland Chapter\, Polish Academy of Sciences\, Poland\n\n\n\nTalent circulation\, capacity building\, research bridges: closing gaps with MSCA portfolio. An interactive fishbowl discussion on how mobility and MSCA instruments can strengthen institutional capacity and reduce inequalities within the European Research Area.Moderator: Dr Shaghayegh KESHANIDOKHT\, Board Member of the MCAA Chapter BeneluxGuests: Maria GÓRNA\, PhD – Biological and Chemical Research Centre\, University of Warsaw\, Poland; Vinayak Anand KUMAR\, PhD – Otto-Friedrich-Universität Bamberg\, Germany  [TBC]; Valentina VIGNALI\, PhD – University Medical Centre Utrecht\, Netherlands [TBC]\n\n\n\nNAWA–MSCA Network: A practical model for return\, reintegration and career support. A short session presenting a practical model of support for researchers at the stages of application\, mobility\, return and reintegration.Guest: Ms Bogna HRYNISZYN\, Excellence in Science Department PAS\, NAWA-MSCA Network Central PolandMSCA Deep Dives: Focused Roundtables. Blok A block of parallel\, moderated discussions devoted to the most important challenges related to careers\, mobility and institutional capacity for implementing MSCA:\n\n\n\n\n\nPhD/ Postdoc careers & brain circulation: MSCA as a talent-attracting platform\, a discussion on how MSCA supports career development\, mobility decisions\, and pathways for return and talent retention. \n\n\n\nModerator: Isabel HERZHOFF  KOWI Office\, Brussels \n\n\n\n\n\nIntersectoral Mobility & Non-Academic Pathways: From Secondments to Sustainable Careers a session on cooperation with the non-academic sector\, intersectoral mobility and long-term career pathways beyond the traditional academic model. \n\n\n\nModerator: Dunja HOFMANN KOWI Office\, Brussels \n\n\n\n\n\nResearch Management\, HR & Institutional Capacity: Enabling MSCA Across Diverse Systems\, a discussion on how administrative structures\, HR and institutional support shape the effective implementation and long-term sustainability of MSCA actions. \n\n\n\nModerator: Łukasz PIECZONKA\, PolSCA PAS\, Brussels \n\n\n\n\n\n \n\n\n\nMSCA Matchmaking Zones. Find Your Partner!  A networking block designed around concrete partnership\, hosting and implementation support needs for future MSCA actions:\n\n\n\n\n\nPhD & Postdocs marketplace (researchers seeking hosts\, institutions offering positions). A session for those looking for hosts\, candidates and cooperation opportunities around individual projects and postdoctoral pathways. \n\n\n\nModerator: Nanditha K. NARAYANAN\, KU Leuven & MCAA Chapter Benelux \n\n\n\n\n\nInstitutional partnerships (researchers & institutions seeking partners to build consortia). A session focused on building partnerships for Doctoral Networks\, Staff Exchanges and other joint institutional actions. \n\n\n\nModerator: Linda VALKO NethER Office in Brussels \n\n\n\n\n\nImplementation Support (connecting researchers with RMAs\, EURAXESS advisors). A session devoted to practical support regarding MSCA rules\, proposal preparation and project management. \n\n\n\nModerator: Beatrix BORZA  MSCA NCP\, Hungary [TBC] \n\n\n\n\n\nMSCA stories that teach: Practical lessons from the field is a series of short presentations highlighting practical lessons drawn from participation in MSCA and their broader significance for institutions and the system.From Practice to Policy. From Today’s Insights to Tomorrow’s MSCA. A special closing session that interactively gathers conclusions from the whole day and connects participants’ experience with the debate on the future of MSCA and FP10.Specisl Guest: Ms Eszter LAKOS\, Member of the European Parliament\, EPP/ITRE [tbc]Networking receptionas the final part of the event\, intended for more informal conversations and for continuing the contacts established throughout the day!\n\n\n\nEvent agenda HERE\n\n\n\n \n\n\n\n \n\n\n\nOrganisers\n\n\n\n\n\n\n\nEvent organised in collaboration with the Polish Academy of Sciences (PolSCA PAS Office in Brussels and Excellence in Science Department of the PAS in Warsaw) and the Marie Curie Alumni Association (MCAA) Chapters Benelux\, Hungary and Poland. Local partners of the event in Brussels include the liaison offices: KOWI (Germany)\, Neth-ER (Netherlands) and NRDIO (Hungary). \n\n\n\nAlongside our special guests\, representatives of the European Commission and the European Parliament\, as well as the experts already mentioned\, the event will also bring together distinguished members of the European research and institutional community and others who are actively contributing to the organisation of this special event. \n\n\n\nSuch a broad and international group of guests gives the event a distinctive profile and confirms that it will be one of the more important meetings devoted to the future of MSCA actions\, research mobility and research cooperation in Europe! \n\n\n\n \n\n\n\n Register today and track the news HERE
URL:https://polsca.pan.pl/en/events/msca-at-30-research-mobility-bridging-gaps-across-europe-2/
LOCATION:NAŁĘCZ INSTITUTE OF BIOCYBERNETICS AND BIOMEDICAL ENGINEERING PAS\, UL. KSIĘCIA TROJDENA 4\, WARSAW\, 02-109\, Poland
GEO:50.8369933;4.3704063
X-APPLE-STRUCTURED-LOCATION;VALUE=URI;X-ADDRESS=NAŁĘCZ INSTITUTE OF BIOCYBERNETICS AND BIOMEDICAL ENGINEERING PAS UL. KSIĘCIA TROJDENA 4 WARSAW 02-109 Poland;X-APPLE-RADIUS=500;X-TITLE=UL. KSIĘCIA TROJDENA 4:geo:4.3704063,50.8369933
END:VEVENT
BEGIN:VEVENT
DTSTART;TZID=Europe/Warsaw:20260615T000000
DTEND;TZID=Europe/Warsaw:20260617T235959
DTSTAMP:20260420T210515
CREATED:20260326T144056Z
LAST-MODIFIED:20260327T103656Z
UID:14588-1781481600-1781740799@polsca.pan.pl
SUMMARY:EMERGE-EU: AI and Health – another PolSCA study visit to Brussels
DESCRIPTION:Polish Science Contact Agency PolSCA in Brussels is organising another EMERGE-EU study visit\, this time focusing on topics related to artificial intelligence and health. As with the first edition\, the programme will include expert sessions\, networking activities in Brussels\, and an institutional visit. Participants will represent countries such as Belgium\, Bulgaria\, the Czech Republic\, Germany\, Poland\, and the United Kingdom. \n\n\n\n\n\n\n\nThe June edition builds on the initiative launched in January 2026\, when the first EMERGE-EU study visit took place in Brussels and focused on advanced materials. That event introduced a new support format for researchers at an early stage of their careers who are looking to become more active in the European research and innovation ecosystem. \n\n\n\nFocus of the visit \n\n\n\nThe visit will centre on AI and Health\, with particular attention to funding opportunities\, consortium building\, and project development at the intersection of science\, technology and healthcare. The preliminary programme includes thematic sessions with representatives of the European Commission\, meetings devoted to opportunities offered by the ERC\, EIC and COST\, as well as an overview of upcoming opportunities under Horizon Europe. The agenda also features a matchmaking session bringing together participants from different countries\, along with a study visit to one of Belgium’s research institutions. \n\n\n\n \n\n\n\nThe EMERGE-EU study visit is part of PolSCA’s broader efforts to strengthen the presence of Polish researchers in the European Research Area. Its aim is not only to support the development of participants’ individual research paths\, but also to create opportunities for long-term connections and future project collaboration in fields of growing importance to EU research policy. \n\n\n\nRegistration \n\n\n\nRegistration for the event will open in the second half of April 2026\, coinciding with the publication of the first\, preliminary version of the program for the June edition of the EMERGE-EU study visit. Detailed information regarding the application guidelines and the application form will be published on the PolSCA PAS Office website.
URL:https://polsca.pan.pl/en/events/emerge-eu-ai-in-health-another-polsca-study-visit-to-brussels/
END:VEVENT
END:VCALENDAR