BEGIN:VCALENDAR
VERSION:2.0
PRODID:-//POLSCA - ECPv5.9.1//NONSGML v1.0//EN
CALSCALE:GREGORIAN
METHOD:PUBLISH
X-WR-CALNAME:POLSCA
X-ORIGINAL-URL:https://polsca.pan.pl/en
X-WR-CALDESC:Events for POLSCA
BEGIN:VTIMEZONE
TZID:Europe/Warsaw
BEGIN:DAYLIGHT
TZOFFSETFROM:+0100
TZOFFSETTO:+0200
TZNAME:CEST
DTSTART:20210328T010000
END:DAYLIGHT
BEGIN:STANDARD
TZOFFSETFROM:+0200
TZOFFSETTO:+0100
TZNAME:CET
DTSTART:20211031T010000
END:STANDARD
END:VTIMEZONE
BEGIN:VEVENT
DTSTART;TZID=Europe/Warsaw:20211209T100000
DTEND;TZID=Europe/Warsaw:20211209T120000
DTSTAMP:20260422T203556
CREATED:20211123T151432Z
LAST-MODIFIED:20211126T084820Z
UID:8599-1639044000-1639051200@polsca.pan.pl
SUMMARY:PolSCA webinar series on Horizon Europe: Cluster 2. Culture\, Creativity and Inclusive society
DESCRIPTION:The Polish Science Contact Agency (PolSCA) of the Polish Academy of Sciences in Brussels invites you to another event of Webinar series on Horizon Europe\, this time dedicated to Cluster 2 “Culture\, creativity and inclusive society” in pillar II of the Horizon Europe program. \n\n\n\nThe webinar will take place on December 9\, 2021 (Thursday) from 10am to 12am in the online formula; the event will be held in Polish. \n\n\n\nIf you haven’t received a registration form from your Institute yet\, please do contact us at magdalena.dobrzynska@polsca.pan.pl (registration until December 7\, 2021). \n\n\n\nThe meeting agenda is available HERE. \n\n\n\n\n\n\n\nThe subject of the meeting is the Horizon Europe Cluster 2 “Culture\, creativity and inclusive society”. This cluster aims to strengthen European democratic values\, including rule of law and fundamental rights\, safeguarding our cultural heritage\, and promoting socio-economic transformations that contribute to inclusion and growth.  \n\n\n\nDuring the session\, we will focus on incentives\, opportunities and challenges related to the application and participation of social sciences and humanities representatives in Horizon Europe\, especially in Cluster 2 competitions (deadline for application April 20\, 2022). \n\n\n\nWe will be supported by an expert of the National Contact Point\, and representatives of\, among others\, Division I of the Polish Academy of Sciences will present good practices in international projects carried out in previous years. \n\n\n\nWe will end with a session of questions and a discussion on practical solutions supporting researchers in the social sciences and humanities in Horizon Europe\, incl. creating and joining project consortia or searching for projects in other Horizon Europe clusters\, in which social sciences and humanities work packages are planned. \n\n\n\nThe event is intended only for academics and research managers of the Polish Academy of Sciences. \n\n\n\n \n\n\n\nThe webinar for PAN employees will be preceded by two days of events organized by the European Commission and dedicated to Cluster 2: InfoDay on 7.12. and brokerage event on 8.12 \n\n\n\n\n\n\n\nWe encourage you to participate in the entire “three-pack” on Cluster 2. \n\n\n\n \n\n\n\n \n\n\n\nThe main objective of the activities undertaken as part of the PolSCA Webinar series is to strengthen the knowledge of the EU framework programme for research and innovation – Horizon Europe (HE) among representatives of the scientific community of the Polish Academy of Sciences (PAS). The participation in Horizon Europe (2021-2027) will undoubtedly be a great challenge for scientists and research units in Poland\, including employees of the PAS Institutes. Yet\, Horizon Europe programme\, with a budget of EUR 95.5 billion\, clearly provides a great opportunity to implement ambitious R&D projects\, largely based on multilateral scientific cooperation. \n\n\n\nThe synergy of various activities initiated within the PASIFIC programme under the PAS headquarters\, combined with dissemination and training activities undertaken by the PolSCA Office in accordance with its mission shall contribute to increasing the effective participation of the research institutes of the PAS in projects funded under Horizon Europe. To further enable that\, PolSCA is involved in building and strengthening an informal support network dedicated to scientists and research managers of PAS institutes in the context of the EU framework program for research and innovation\, with an emphasis on Horizon Europe \n\n\n\nPolSCA initiated the roll-out of these webinars in the first half of the 2021. The kick-off meeting included the general introduction to Horizon Europe and a national support system. This was followed by a general introduction to the HE pillar II\, including strategic planning\, missions and partnerships. In the second half of 2021\, a number of follow-up webinars are being delivered by PolSCA team ranging from a detailed overview of selected clusters\, to various HE instruments (e.g. Widening measures\, Cluster 6 of HE ).
URL:https://polsca.pan.pl/en/events/polsca-webinar-series-on-horizon-europe-cluster-2-culture-creativity-and-inclusive-society-2/
LOCATION:NAŁĘCZ INSTITUTE OF BIOCYBERNETICS AND BIOMEDICAL ENGINEERING PAS\, UL. KSIĘCIA TROJDENA 4\, WARSAW\, 02-109\, Poland
ATTACH;FMTTYPE=image/png:https://polsca.pan.pl/wp-content/uploads/Webinaria-PolSCA-nt-Klastra-nr-2-1-1.png
GEO:50.8369933;4.3704063
X-APPLE-STRUCTURED-LOCATION;VALUE=URI;X-ADDRESS=NAŁĘCZ INSTITUTE OF BIOCYBERNETICS AND BIOMEDICAL ENGINEERING PAS UL. KSIĘCIA TROJDENA 4 WARSAW 02-109 Poland;X-APPLE-RADIUS=500;X-TITLE=UL. KSIĘCIA TROJDENA 4:geo:4.3704063,50.8369933
END:VEVENT
END:VCALENDAR