BEGIN:VCALENDAR
VERSION:2.0
PRODID:-//POLSCA - ECPv5.9.1//NONSGML v1.0//EN
CALSCALE:GREGORIAN
METHOD:PUBLISH
X-WR-CALNAME:POLSCA
X-ORIGINAL-URL:https://polsca.pan.pl/en
X-WR-CALDESC:Events for POLSCA
BEGIN:VTIMEZONE
TZID:Europe/Warsaw
BEGIN:DAYLIGHT
TZOFFSETFROM:+0100
TZOFFSETTO:+0200
TZNAME:CEST
DTSTART:20210328T010000
END:DAYLIGHT
BEGIN:STANDARD
TZOFFSETFROM:+0200
TZOFFSETTO:+0100
TZNAME:CET
DTSTART:20211031T010000
END:STANDARD
END:VTIMEZONE
BEGIN:VEVENT
DTSTART;TZID=Europe/Warsaw:20211130T093000
DTEND;TZID=Europe/Warsaw:20211130T130000
DTSTAMP:20260423T090529
CREATED:20211108T115248Z
LAST-MODIFIED:20211125T102911Z
UID:8506-1638264600-1638277200@polsca.pan.pl
SUMMARY:PolSCA webinar series on Horizon Europe :: Cluster 6 “Food\, bioeconomy\, natural resources\, agriculture and environment”
DESCRIPTION:The Polish Science Contact Agency (PolSCA) of the Polish Academy of Sciences in Brussels is hosting a next meeting within “Webinar series on Horizon Europe”. The main purpose of this particular webinar will be to present cluster 6: “Food\, bioeconomy\, natural resources\, agriculture and environment” of Horizon Europe. The current research and innovation funding opportunities in this part of the framework program are set out in the Work Program for 2021-2022. \n\n\n\nThanks to our special guests: representatives of the European Commission\, Mission Boards and National Contact Point (NCBR/KPK)\, the meeting attendees will strengthen their knowledge about priorities\, specific objectives and expected impact of the cluster 6 as well as about the funding opportunities within 7 destinations of the cluster for 2022. Moreover\, the participants will be given detailed insight into the evaluation novelties under cluster 6 with a special attention to Do Not Significant Harm criterion. This will be followed by testimonials of the Polish researchers sharing their experiences gained from the Horizon 2020 funded grants. Eventually\, Mission Boards members will present closely related to cluster 6: Mission Restore our Ocean and Waters and EU Mission Soil deal for Europe. \n\n\n\nThe event is open only to academics and research managers of the Polish Academy of Sciences.  \n\n\n\nThe webinar will take place online on November 30\, 2021 (Tuesday) from 9.30 – 13.00.  \n\n\n\nThe full agenda of the meeting is available HERE. \n\n\n\n\n\n\n\n\n\n\n\n \n\n\n\nThe main objective of the activities undertaken as part of the PolSCA Webinar series on Horizon Europe is to strengthen the knowledge of the EU framework programme for research and innovation – Horizon Europe (HE) among representatives of the scientific community of the Polish Academy of Sciences (PAS). The participation in Horizon Europe (2021-2027) will undoubtedly be a great challenge for scientists and research units in Poland\, including employees of the PAS Institutes. Yet\, Horizon Europe programme\, with a budget of EUR 95.5 billion\, provides clearly a great opportunity to implement ambitious R&D projects\, largely based on multilateral scientific cooperation. \n\n\n\nThe synergy of various activities initiated within the PASIFIC programme under the PAS headquarters\, combined with dissemination and training activities undertaken by the PolSCA Office in accordance with its mission shall contribute to increasing the effective participation of the research institutes of the PAS in projects funded under Horizon Europe. In order to further enable that\, PolSCA is involved in building and strengthening an informal support network dedicated to scientists and research managers of PAS institutes in the context of the EU framework program for research and innovation\, with an emphasis on Horizon Europe. \n\n\n\nPolSCA initiated the roll-out of these webinars in the first half of the 2021. The kick-off meeting included the general introduction to Horizon Europe and a national support system. This was followed by a general introduction to the HE pillar II\, including strategic planning\, missions and partnerships. In the second half of 2021\, a number of follow-up webinars are being delivered by PolSCA team ranging from a detailed overview of selected clusters\, to various HE instruments (e.g. Widening measures).
URL:https://polsca.pan.pl/en/events/polsca-webinar-series-on-horizon-europe-cluster-6-food-bioeconomy-natural-resources-agriculture-and-environment/
LOCATION:NAŁĘCZ INSTITUTE OF BIOCYBERNETICS AND BIOMEDICAL ENGINEERING PAS\, UL. KSIĘCIA TROJDENA 4\, WARSAW\, 02-109\, Poland
ATTACH;FMTTYPE=image/png:https://polsca.pan.pl/wp-content/uploads/Webinaria-PolSCA-nt-Klastra-nr-6-1.png
GEO:50.8369933;4.3704063
X-APPLE-STRUCTURED-LOCATION;VALUE=URI;X-ADDRESS=NAŁĘCZ INSTITUTE OF BIOCYBERNETICS AND BIOMEDICAL ENGINEERING PAS UL. KSIĘCIA TROJDENA 4 WARSAW 02-109 Poland;X-APPLE-RADIUS=500;X-TITLE=UL. KSIĘCIA TROJDENA 4:geo:4.3704063,50.8369933
END:VEVENT
END:VCALENDAR