BEGIN:VCALENDAR
VERSION:2.0
PRODID:-//POLSCA - ECPv5.9.1//NONSGML v1.0//EN
CALSCALE:GREGORIAN
METHOD:PUBLISH
X-WR-CALNAME:POLSCA
X-ORIGINAL-URL:https://polsca.pan.pl/en
X-WR-CALDESC:Events for POLSCA
BEGIN:VTIMEZONE
TZID:Europe/Warsaw
BEGIN:DAYLIGHT
TZOFFSETFROM:+0100
TZOFFSETTO:+0200
TZNAME:CEST
DTSTART:20210328T010000
END:DAYLIGHT
BEGIN:STANDARD
TZOFFSETFROM:+0200
TZOFFSETTO:+0100
TZNAME:CET
DTSTART:20211031T010000
END:STANDARD
END:VTIMEZONE
BEGIN:VEVENT
DTSTART;TZID=Europe/Warsaw:20211216T100000
DTEND;TZID=Europe/Warsaw:20211216T120000
DTSTAMP:20260424T153050
CREATED:20211202T144932Z
LAST-MODIFIED:20211203T091738Z
UID:8692-1639648800-1639656000@polsca.pan.pl
SUMMARY:Webinar: From blue-sky research into breakthrough innovations. How to enable synergies between the ERC and the EIC?
DESCRIPTION:Polish Science Contact Agency PolSCA of the Polish Academy of Science in Brussels together with the NCBR Office in Brussels – Business & Science Poland\, invite you to the webinar “From blue-sky research into breakthrough innovations. How to enable synergies between the European Research Council (ERC) and the European Innovation Council (EIC)” whichtakes place on Thursday 16 December at 10h00. \n\n\n\n \n\n\n\n\n\n\n\nThis virtual event will be directed to the research and innovation community in Europe and focus on the European Research Council (ERC) and its Proof of Concept grant scheme and the new European Innovation Council (EIC) and its transition activities\, especially in the context of broadening cooperation between frontier science and breakthrough innovation. The ERC PoC helps grantees to bridge the gap between their pioneering research and early phases of its commercialization and EIC Transition funds support innovation activities that go beyond the experimental proof of principle in the laboratory. It will be also a great opportunity to present current (and future) incentives for the ERC grantees themselves or their team’s members to apply for the EIC funding. \n\n\n\nAmong our guest we will have keynote speakers: Prof. Kurt Mehlhorn\, Director of the MPI for Informatics and Professor at Saarland University\, Chair of the Working Group on innovation and relations with industry of the ERC Scientific Council and Dr Špela Stres\, Head of Center for Technology Transfer and Innovation\, Jožef Stefan Institute in Ljubljana\, member of the newly established EIC Board. \n\n\n\nDuring a panel discussion entitled “From ERC to EIC – lessons from the grantees and new incentives“ we will hear from Polish representatives:  \n\n\n\nProf. Piotr Garstecki who was among first grantees in Poland receiving the ERC Starting Grant\, followed by EIC SME from the European Innovation Council\, \n\n\n\nProf. Piotr Sankowski who is the first person in Poland who received three European Research Council grants (Starting Grant\, Proof of Concept and Consolidator Grant)\, \n\n\n\nProf. Magdalena Król who is a double ERC grantee\, awarded first with the Starting Grant and then with a Proof of Concept grant; she was also finalist of the EU Prize for Women Innovators 2020\,\n\n\n\nMr. Jakub Jasiczak\, the Chairman of the association\, established to commercialize scientific research results from universities and research institutes and carry out applied research commissioned by enterprises will be among the speakers of this session.\n\n\n\nBoth parts will be followed by Q&A session. \n\n\n\nWe invite all representatives of research and innovation communities to participate in this event. \n\n\n\nThe agenda of the event is available here. \n\n\n\nYou can register here: Link \n\n\n\nJoin us!
URL:https://polsca.pan.pl/en/events/webinar-from-blue-sky-research-into-breakthrough-innovations-how-to-enable-synergies-between-the-european-research-council-erc-and-the-european-innovation-council-eic/
LOCATION:NAŁĘCZ INSTITUTE OF BIOCYBERNETICS AND BIOMEDICAL ENGINEERING PAS\, UL. KSIĘCIA TROJDENA 4\, WARSAW\, 02-109\, Poland
ATTACH;FMTTYPE=image/png:https://polsca.pan.pl/wp-content/uploads/grafika-baner-na-strone.png
GEO:50.8369933;4.3704063
X-APPLE-STRUCTURED-LOCATION;VALUE=URI;X-ADDRESS=NAŁĘCZ INSTITUTE OF BIOCYBERNETICS AND BIOMEDICAL ENGINEERING PAS UL. KSIĘCIA TROJDENA 4 WARSAW 02-109 Poland;X-APPLE-RADIUS=500;X-TITLE=UL. KSIĘCIA TROJDENA 4:geo:4.3704063,50.8369933
END:VEVENT
END:VCALENDAR