BEGIN:VCALENDAR
VERSION:2.0
PRODID:-//POLSCA - ECPv5.9.1//NONSGML v1.0//EN
CALSCALE:GREGORIAN
METHOD:PUBLISH
X-WR-CALNAME:POLSCA
X-ORIGINAL-URL:https://polsca.pan.pl/en
X-WR-CALDESC:Events for POLSCA
BEGIN:VTIMEZONE
TZID:Europe/Warsaw
BEGIN:DAYLIGHT
TZOFFSETFROM:+0100
TZOFFSETTO:+0200
TZNAME:CEST
DTSTART:20230326T010000
END:DAYLIGHT
BEGIN:STANDARD
TZOFFSETFROM:+0200
TZOFFSETTO:+0100
TZNAME:CET
DTSTART:20231029T010000
END:STANDARD
END:VTIMEZONE
BEGIN:VEVENT
DTSTART;TZID=Europe/Warsaw:20230327T140000
DTEND;TZID=Europe/Warsaw:20230327T153000
DTSTAMP:20260422T211544
CREATED:20230314T154831Z
LAST-MODIFIED:20230321T154329Z
UID:10321-1679925600-1679931000@polsca.pan.pl
SUMMARY:Horizon Europe Navigators MeetUp: Widening instruments - Twinning & Pathways to Synergies
DESCRIPTION:An upcoming meeting of the network of research managers across institutes of the Polish Academy of Sciences\, the so-called Horizon Europe Navigators\, will cover the subject of Widening participation and spreading excellencein the Horizon Europe with a particular focus on instruments of Twinning and Pathways to Synergies calls under the current Work Programme 2023 – 2024. \n\n\n\nThe first part of the meeting will be dedicated to Twinning\, with a representative of the European Research Executive Agency (REA) presenting the calls requirements as well as dos and don’ts. In the second part of the meeting information on a new call Pathways to Synergies will be delivered by a representative of National Contact Point from National Centre for Research and Development (NCBR). \n\n\n\nThe final part of the meeting will be dedicated to an internal discussion among members of the Horizon Europe Navigators network\, in particular engagement of the PolSCA staff in supporting the community regarding the calls described above. \n\n\n\nAgenda is available here. \n\n\n\nRegistration for the meeting is required – link to the registration form has been sent to members of Horizon Navigators Network in each of the PAS’s Institutes or please contact us directly at  magdalena.dobrzynska@polsca.pan.pl \n\n\n\n\n\n\n\n\n\n\n\nIn 2021\, the PolSCA Office – in synergy with the PASIFIC program – initiated a network of science managers as part of the Polish Academy of Sciences\, the so-called Horizon Europe Navigators. \n\n\n\n\n\n\n\n\n\n\n\n\n\n\n\n\n\nIdentified among the employees of the Institutes of the Polish Academy of Sciences\, HE Navigators support the effective transfer of information in the scientific environment of their Institutes and the effective distribution of the training offer of the PolSCA Office and partners. The common goal of the PolSCA Office and the HE Navigators Network is to deepen knowledge and exchange good practices\, and consequently – to increase the participation of the Institutes of the Polish Academy of Sciences in the Horizon Europe framework programme. Currently\, 62 institutes of the Polish Academy of Sciences and several auxiliary units of the Polish Academy of Sciences are involved in the network. \n\n\n\nIn 2022\, the PolSCA Office organized a number of dedicated meetings – in online format – for members of the network\, the so-called “HE Navigators MeetUps” and several meetings as part of the series “PolSCA webinars on Horizon Europe” open to the environment of academics and research managers at the Academy. All these events were online meetings. \n\n\n\nIn 2023\, meetings in the form of webinars will be continued (the first one took place in January and concerned RMAs associations)\, and the PolSCA Team is also planning to be more active in the country (the first regional meeting was held in February in Poznań).
URL:https://polsca.pan.pl/en/events/horizon-europe-navigators-meetup-widening-instruments-twinning-pathways-to-synergies/
LOCATION:NAŁĘCZ INSTITUTE OF BIOCYBERNETICS AND BIOMEDICAL ENGINEERING PAS\, UL. KSIĘCIA TROJDENA 4\, WARSAW\, 02-109\, Poland
GEO:50.8369933;4.3704063
X-APPLE-STRUCTURED-LOCATION;VALUE=URI;X-ADDRESS=NAŁĘCZ INSTITUTE OF BIOCYBERNETICS AND BIOMEDICAL ENGINEERING PAS UL. KSIĘCIA TROJDENA 4 WARSAW 02-109 Poland;X-APPLE-RADIUS=500;X-TITLE=UL. KSIĘCIA TROJDENA 4:geo:4.3704063,50.8369933
END:VEVENT
BEGIN:VEVENT
DTSTART;TZID=Europe/Warsaw:20230329T080000
DTEND;TZID=Europe/Warsaw:20230331T170000
DTSTAMP:20260422T211544
CREATED:20230106T142735Z
LAST-MODIFIED:20230106T142956Z
UID:10056-1680076800-1680282000@polsca.pan.pl
SUMMARY:V4 Training - spring 2023
DESCRIPTION:V4 Training is a training course designed for experienced research managers working in project departments (primarily international: H2020 and Horizon Europe) exclusively at universities\, scientific and research institutes (not companies) in departments responsible for acquisition\, management and reporting. \n\n\n\nThe event\, the spring edition of which will take place between March 29 and 31\, is organized in Brussels by the Polish Science Contact Agency PolSCA together with the Czech Liaison Office for Education and Science (CZELO)\, the National Research\, Development and Innovation Office in Hungary (NRDIO) and the Slovak Liaison Office for Research and Development (SLORD). Its main objective is to expand the knowledge\, and at the same time strengthen the relevance of the activities\, of the staff of the project departments at the institutes\, which in turn will contribute to increasing Polish participation in the Horizon Europe framework program. \n\n\n\nThe total number of participants from each country of the Visegrad Group and from countries affiliated to IGLO (Informal Group of RTD Liaison Offices) is 35 people\, including 7 managers from Poland. \n\n\n\nThe V4 Training program usually features speeches by representatives of the European Commission\, experts from liaison offices or universities. In addition\, participants are encouraged to exchange experiences during group work and networking meetings. We will present details of the upcoming edition to the selected participants in February 2023.
URL:https://polsca.pan.pl/en/events/v4-training-spring-2023/
LOCATION:NAŁĘCZ INSTITUTE OF BIOCYBERNETICS AND BIOMEDICAL ENGINEERING PAS\, UL. KSIĘCIA TROJDENA 4\, WARSAW\, 02-109\, Poland
GEO:50.8369933;4.3704063
X-APPLE-STRUCTURED-LOCATION;VALUE=URI;X-ADDRESS=NAŁĘCZ INSTITUTE OF BIOCYBERNETICS AND BIOMEDICAL ENGINEERING PAS UL. KSIĘCIA TROJDENA 4 WARSAW 02-109 Poland;X-APPLE-RADIUS=500;X-TITLE=UL. KSIĘCIA TROJDENA 4:geo:4.3704063,50.8369933
END:VEVENT
END:VCALENDAR