BEGIN:VCALENDAR
VERSION:2.0
PRODID:-//POLSCA - ECPv5.9.1//NONSGML v1.0//EN
CALSCALE:GREGORIAN
METHOD:PUBLISH
X-WR-CALNAME:POLSCA
X-ORIGINAL-URL:https://polsca.pan.pl/en
X-WR-CALDESC:Events for POLSCA
BEGIN:VTIMEZONE
TZID:UTC
BEGIN:STANDARD
TZOFFSETFROM:+0000
TZOFFSETTO:+0000
TZNAME:UTC
DTSTART:20190101T000000
END:STANDARD
END:VTIMEZONE
BEGIN:VEVENT
DTSTART;TZID=UTC:20210322T130000
DTEND;TZID=UTC:20210322T143000
DTSTAMP:20260420T224739
CREATED:20210326T105252Z
LAST-MODIFIED:20210326T105252Z
UID:7577-1616418000-1616423400@polsca.pan.pl
SUMMARY:Webinar: International NCN call Weave-UNISONO
DESCRIPTION:Polish Science Contact Agency (PolSCA) of the Polish Academy of Sciences in Brussels in cooperation with the National Science Centre invite you to the webinar on international Weave-UNISONO call for bilateral or trilateral research projects for teams from Austria\, the Czech Republic\, Slovenia\, Switzerland\, Germany and Poland as part of the multilateral program WEAVE. The aim of the training is primarily to present the basic assumptions of the WEAVE program and explain what the lead agency procedure is\, and what is particularly interesting – to present the process of applications’ submission and evaluation of proposals. \nThe webinar is addressed to the academic and administrative staff of the Polish Academy of Sciences and will be held on Monday\, March 22\, 2021 in the online formula. \nThe detailed agenda of the meeting is available here.
URL:https://polsca.pan.pl/en/events/webinar-international-ncn-call-weave-unisono/
LOCATION:Rue du Trône 98\, Brussels\, 1050\, Belgium
ATTACH;FMTTYPE=image/jpeg:https://polsca.pan.pl/wp-content/uploads/WEBinariumPolSCA-NCN-Weave-UNISONO.jpg
END:VEVENT
BEGIN:VEVENT
DTSTART;TZID=UTC:20210312T093000
DTEND;TZID=UTC:20210312T113000
DTSTAMP:20260420T224739
CREATED:20210326T103826Z
LAST-MODIFIED:20210326T103826Z
UID:7575-1615541400-1615548600@polsca.pan.pl
SUMMARY:Meeting of the series "Discussions on Horizon in the PolSCA Office"\, topic: JPI Urban Europe
DESCRIPTION:The Polish Science Contact Agency PolSCA kindly invites you to the next meeting of the series ‘Discussions on Horizon in the PolSCA Office’ addressed to representatives of Polish regional offices in Brussels. Special guests will be representatives of the JPI Urban Europe network – Dr. Margit Noll and Ms. Elena Simion. During the meeting\, a plenty of activities of the JPI Urban Europe network will be discussed (including current ERA-NET Co-Fund Urban Transformation Capacities call). Moreover\, the possibilities of cooperation under the new European Partnership Driving urban transitions to a sustainable future (DUT) will be presented. The meeting will also be an opportunity for short presentations of individual regions and a discussion on the participants’ experiences in engaging in urban transformation activities. \nThe meeting\, taking place on 12 March 2021 (Friday) from 09.30 to 11.30 in the online mode\, is open to representatives of the national regional offices in Brussels. \nThe detailed agenda of the meeting is available here.
URL:https://polsca.pan.pl/en/events/meeting-of-the-series-discussions-on-horizon-in-the-polsca-office-topic-jpi-urban-europe/
ATTACH;FMTTYPE=image/jpeg:https://polsca.pan.pl/wp-content/uploads/2Infografika-JPI-Urban-Europe-v2.jpg
END:VEVENT
BEGIN:VEVENT
DTSTART;TZID=UTC:20210308T130000
DTEND;TZID=UTC:20210308T144500
DTSTAMP:20260420T224739
CREATED:20210308T155010Z
LAST-MODIFIED:20210308T155700Z
UID:7474-1615208400-1615214700@polsca.pan.pl
SUMMARY:Webinar: international ERA-Net calls. NCBR's offer
DESCRIPTION:Polish Science Contact Agency (PolSCA) of the Polish Academy of Sciences in Brussels in cooperation with the National Centre for Research and Development invites you to a webinar dedicated to international calls for research projects\, implemented in multilateral cooperation (Era-Net competitions) under Horizon 2020. The aim of the meeting will primarily be to present the process preparation of calls within international networks\, the process of submitting and evaluating applications\, and what is particularly interesting – presenting the current NCBR’s offer in this area. \nThe training is addressed only to academic and administrative staff of the Polish Academy of Sciences and will be held online on March 8\, 2021 (Monday) from from 1.00 pm. to 2.45 pm. \nThe detailed agenda of the meeting is available here (in Polish).
URL:https://polsca.pan.pl/en/events/webinar-international-era-net-calls-ncbrs-offer/
LOCATION:Rue du Trône 98\, Brussels\, 1050\, Belgium
ATTACH;FMTTYPE=image/jpeg:https://polsca.pan.pl/wp-content/uploads/WEBinariumPolSCA-NCBR_poster-e1615222155999.jpg
END:VEVENT
BEGIN:VEVENT
DTSTART;TZID=UTC:20210219T130000
DTEND;TZID=UTC:20210219T140000
DTSTAMP:20260420T224739
CREATED:20210219T083156Z
LAST-MODIFIED:20210219T083156Z
UID:7375-1613739600-1613743200@polsca.pan.pl
SUMMARY:Webinar: Brexit and scientific cooperation between PL-UK
DESCRIPTION:Polish Science Contact Agency (PolSCA) of the Polish Academy of Sciences in Brussels in cooperation with the UK Research Office (UKRO) in Brussels are delighted to invite you to a webinar during which the EU-UK scientific cooperation in the context of Brexit will be discussed. In particular\, the meeting will be focused on participation of British beneficiaries in Horizon 2020 projects and the future conditions of participation of the United Kingdom in Horizon Europe program. \nThe main objective of the webinar is to present and consolidate knowledge about research cooperation with scientists and research institutions in the UK which will be possible thanks to our speakers from the British liaison office in Brussels (UKRO). \nThe meeting is addressed to researchers and administrative support staff of the Polish Academy of Sciences. It will be helpful especially for those who are involved in international scientific cooperation between Poland and Great Britain\, especially on the basis of grants from the EU R&I framework program. \nThe webinar will be held online on February 19\, 2021 (in Polish ). \nThe meeting agenda (in Polish) is available here.
URL:https://polsca.pan.pl/en/events/webinar-brexit-and-scientific-cooperation-between-pl-uk/
LOCATION:Rue du Trône 98\, Brussels\, 1050\, Belgium
ATTACH;FMTTYPE=image/jpeg:https://polsca.pan.pl/wp-content/uploads/WEBinariumPolSCA-Brexit_v16.9.jpg
END:VEVENT
BEGIN:VEVENT
DTSTART;TZID=UTC:20210205T130000
DTEND;TZID=UTC:20210205T143000
DTSTAMP:20260420T224739
CREATED:20210205T125118Z
LAST-MODIFIED:20210205T125221Z
UID:7241-1612530000-1612535400@polsca.pan.pl
SUMMARY:Webinar: international ERA-Net / JPI programmes. NCN's offer
DESCRIPTION:The Polish Science Contact Agency (PolSCA) of the Polish Academy of Sciences in Brussels\, in cooperation with the National Science Centre\, organises a webinar on international calls for research projects carried out in multilateral cooperation (Era-Net) under Horizon 2020. The seminar is addressed mainly to scientific and administrative staff of the Polish Academy of Sciences. It will be held online on February 5\, 2021 (Friday) from from 13.00 to 14.30. \nThe aim of the webinar is primarily to present the process of preparing programmes within international networks\, the process of submitting and evaluating applications\, and what is particularly interesting – to present the current NCN calls’ offer in this area. \nThe detailed agenda of the meeting is available here. \n  \n 
URL:https://polsca.pan.pl/en/events/7241/
LOCATION:Rue du Trône 98\, Brussels\, 1050\, Belgium
ATTACH;FMTTYPE=image/jpeg:https://polsca.pan.pl/wp-content/uploads/1_H2020-e1612279788910.jpg
END:VEVENT
BEGIN:VEVENT
DTSTART;TZID=UTC:20191212T120000
DTEND;TZID=UTC:20191212T133000
DTSTAMP:20260420T224739
CREATED:20191206T123355Z
LAST-MODIFIED:20191206T123355Z
UID:4755-1576152000-1576157400@polsca.pan.pl
SUMMARY:Meeting with Members of the EP
DESCRIPTION:This Thursday\, December 12\, a meeting with Members of the European Parliament will be held at the premises of the Polish Science Contact Agency in Brussels. The meeting will be an excellent opportunity to exchange information and present an action plan for the next year.
URL:https://polsca.pan.pl/en/events/meeting-with-members-of-the-ep/
LOCATION:Biuro PolSCA\, Rue du Trône 98\, Bruksela\, 1050\, Belgium
ATTACH;FMTTYPE=image/jpeg:https://polsca.pan.pl/wp-content/uploads/parlament-europejski.jpg
END:VEVENT
BEGIN:VEVENT
DTSTART;TZID=UTC:20191209T093000
DTEND;TZID=UTC:20191209T113000
DTSTAMP:20260420T224739
CREATED:20191205T153017Z
LAST-MODIFIED:20191206T121258Z
UID:4739-1575883800-1575891000@polsca.pan.pl
SUMMARY:Meeting with an expert: New trends in technology for renewable sources using nanomaterials
DESCRIPTION:The Polish Science Contact Agency in Brussels is delighted to invite you for a meeting with the expert prof. Monika Kwoka entitled “New trends in technology for renewable sources using nanomaterials”. The meeting will take place on 9th December 2019 between 9.30-11.30 at the PolSCA premises at Rue du Trone 98 (first floor). \n  \nDescription: \nPhotovoltaics technology\, which converts solar energy into electricity is expected to be the most promising strategy among the common clean renewable energy sources. It is well known that already the fourth generations of the photovoltaic cells based on the various type inorganic and organic semiconductor nanostructures (hetero-junctions) have been elaborated. Apart from above\, the most important parts of every solar cell are the transparent electrodes\, the light trapping layers\, as well as electron transport layers\, which are commonly based on the transparent conductive oxides (TCO)\, and directly determined its final efﬁciency. \nThis presentation will show a novel trends in the technology and characterization of the low dimensional TCO nanostructures for above mentioned potential photovoltaic\, including mainly zinc oxide ZnO\, titanium dioxide TiO2 and tin dioxide SnO2\, with a special emphasis on their specific surface/interface properties playing a crucial role in electron charge transport inside the solar cells. \n  \n  \n \nProf. Monika Kwoka obtained her master’s degree in engineering in technical physics in 2003 – specialization: Optoelectronics\, in 2007. doctoral degree in physical sciences\, and in 2015 at the Faculty of Automatic Control\, Electronics and Computer Science of the Silesian University of Technology in Gliwice\, postdoctoral degree in technical sciences\, discipline Electronics. She deals with nanotechnology of electronic materials and their application in environmental monitoring and medicine\, cooperating with the best research centers around the world. \nCurrently\, she is a professor at the Silesian University of Technology\, working at the Faculty of Automatic Control Electronics and Computer Science as deputy dean for Science and International Cooperation. Winner of many awards and distinctions\, including the Ministry of Science and Higher Education Scholarship for an Outstanding Young Scientist and the Ministry of Science and Higher Education Award for scientific achievements. Participates in projects of the European Commission and financed by the National Center for Research and Development\, National Science Center and Ministry of Science and Higher Education. Vice-president of the Academy of Young Scholars of the Polish Academy of Sciences\, as well as a member of the Polish Academy of Sciences Committee for the dissemination of science.
URL:https://polsca.pan.pl/en/events/meeting-with-an-expert-new-trends-in-technology-for-renewable-sources-using-nanomaterials/
LOCATION:Biuro PolSCA\, Rue du Trône 98\, Bruksela\, 1050\, Belgium
ATTACH;FMTTYPE=image/jpeg:https://polsca.pan.pl/wp-content/uploads/logo_PolSCA-e1575562866773.jpg
END:VEVENT
BEGIN:VEVENT
DTSTART;TZID=UTC:20190520T093000
DTEND;TZID=UTC:20190520T113000
DTSTAMP:20260420T224739
CREATED:20190513T120452Z
LAST-MODIFIED:20190513T120452Z
UID:4025-1558344600-1558351800@polsca.pan.pl
SUMMARY:Meeting for representations of Polish regions in Brussels 'Discussions on Horizon Europe in the PolSCA Office'
DESCRIPTION:On May 20\, 2019 at 9:30 the first meeting for Polish regional representations in a series of ‘Discussions on Horizon Europe in the PolSCA Office’ will be held. During the coming meeting Ms. Agata Janaszczyk\, Counsellor for Research in the Permanent Representation of Poland to the EU\, is going to present current information related to the process of strategic planning of the next framework program Horizon Europe. What is more\, the meeting will be devoted to the possibilities of supporting scientists under the Marie Skłodowska-Curie Actions scheme within the first H2020 pillar “Excellence in Science”. \nThe registration link is available here. \n  \n 
URL:https://polsca.pan.pl/en/events/meeting-for-representations-of-polish-regions-in-brussels-discussions-on-horizon-europe-in-the-polsca-office/
LOCATION:Biuro PolSCA\, Rue du Trône 98\, Bruksela\, 1050\, Belgium
ATTACH;FMTTYPE=image/jpeg:https://polsca.pan.pl/wp-content/uploads/horizon_europe-e1568904298160.jpg
END:VEVENT
END:VCALENDAR