BEGIN:VCALENDAR
VERSION:2.0
PRODID:-//POLSCA - ECPv5.9.1//NONSGML v1.0//EN
CALSCALE:GREGORIAN
METHOD:PUBLISH
X-WR-CALNAME:POLSCA
X-ORIGINAL-URL:https://polsca.pan.pl
X-WR-CALDESC:Wydarzenia na POLSCA
BEGIN:VTIMEZONE
TZID:Europe/Warsaw
BEGIN:DAYLIGHT
TZOFFSETFROM:+0100
TZOFFSETTO:+0200
TZNAME:CEST
DTSTART:20230326T010000
END:DAYLIGHT
BEGIN:STANDARD
TZOFFSETFROM:+0200
TZOFFSETTO:+0100
TZNAME:CET
DTSTART:20231029T010000
END:STANDARD
END:VTIMEZONE
BEGIN:VEVENT
DTSTART;TZID=Europe/Warsaw:20230627T113000
DTEND;TZID=Europe/Warsaw:20230627T160000
DTSTAMP:20260423T060052
CREATED:20230606T120116Z
LAST-MODIFIED:20230608T091327Z
UID:10590-1687865400-1687881600@polsca.pan.pl
SUMMARY:Dzień Informacyjny o Horyzoncie Europa. Spotkanie regionalne z PolSCA PAN w Krakowie
DESCRIPTION:Biuro PolSCA PAN z siedzibą w Brukseli organizuje spotkanie dedykowane dla lokalnego środowiska PAN w Polsce południowej\, które odbędzie się fizycznie w Krakowie w dniu 27 czerwca w godz. 11.30 do 16.00. \n\n\n\n\n\n\n\nJego celem jest przybliżenie misji Biura PolSCA\, dyskusja na temat działań wspierających jednostki PAN w pozyskiwaniu środków unijnych\, a także przedstawienie szeregu instrumentów finansowania badań z programu ramowego Horyzontu Europa. Szczególną uwagę poświęcimy na omówienie programów Marii Skłodowkskiej-Curie Actions (MSCA)\, pakietu Widening oraz narzędzi wspierania innowacji (tj. EIC Pathfinder\, EIT). Spotkanie będzie też doskonałą okazją do poznania oferty wsparcia ze strony Horyzontalnego Punktu Kontaktowego Polska Południowo-Wschodnia. \n\n\n\nW programie dnia znajduje się także robocze spotkanie z członkami Sieci Horizon Europe Navigators reprezentującymi Instytuty z siedzibą na terenie Polski Południowej. Zaplanowano również dedykowane spotkanie dla kierownictwa tychże Instytutów\, podczas którego zaprezentowane będą narzędzia i obszary wsparcia Biura PolSCA oraz dyskusja nt. potrzeb jednostek w zakresie wsparcia i możliwości współpracy. \n\n\n\n\n\n\n\nNiniejsze wydarzenie będzie drugim w 2023 roku spotkaniem fizycznym Zespołu PolSCA z interesariuszami Polskiej Akademii Nauk po trzech latach przerwy. W lutym br. podobne spotkanie odbyło się w Poznaniu.Jest ono organizowane w ramach serii „Horizon Europe Navigators MeetUps – cyklicznych spotkań dla członków sieci menadżerów nauki PAN\, tzw. HE Navigators. Sieć tę Biuro PolSCA zainicjowało w 2021 roku w synergii z programem PASIFIC. \n\n\n\nZidentyfikowani wśród pracowników Instytutów Akademii HE Navigators wspierają skuteczną dystrybucję oferty szkoleniowej Biura PolSCA i partnerów oraz umożliwiają efektywne przekazywanie informacji w środowisku naukowym swoich Instytutów. Wspólnym celem Biura PolSCA oraz Sieci HE Navigators jest pogłębienie wiedzy i wymiany dobrych praktyk\, a w konsekwencji – zwiększenie udziału Instytutów PAN w programie ramowym Horyzont Europa. Obecnie w sieci zaangażowane są 62 Instytuty PAN oraz kilka jednostek pomocniczych PAN. \n\n\n\nObowiązuje rejestracja na spotkanie – link do formularza rejestracyjnego można pozyskać u członków Sieci Horizon Navigators w każdym z Instytutów lub w wyniku bezpośredniego kontaktu z Biurem PolSCA pod adresem: joanna.komperda@polsca.pan.pl
URL:https://polsca.pan.pl/events/horizon-europe-infoday-polsca-pan-regional-network-meetup-in-krakow/
LOCATION:NAŁĘCZ INSTITUTE OF BIOCYBERNETICS AND BIOMEDICAL ENGINEERING PAS\, UL. KSIĘCIA TROJDENA 4\, WARSAW\, 02-109\, Poland
ATTACH;FMTTYPE=image/png:https://polsca.pan.pl/wp-content/uploads/HE-Navigators-MeetUp-No5.2023-Krakow_www.png
GEO:50.8369933;4.3704063
X-APPLE-STRUCTURED-LOCATION;VALUE=URI;X-ADDRESS=NAŁĘCZ INSTITUTE OF BIOCYBERNETICS AND BIOMEDICAL ENGINEERING PAS UL. KSIĘCIA TROJDENA 4 WARSAW 02-109 Poland;X-APPLE-RADIUS=500;X-TITLE=UL. KSIĘCIA TROJDENA 4:geo:4.3704063,50.8369933
END:VEVENT
END:VCALENDAR