BEGIN:VCALENDAR
VERSION:2.0
PRODID:-//POLSCA - ECPv5.9.1//NONSGML v1.0//EN
CALSCALE:GREGORIAN
METHOD:PUBLISH
X-WR-CALNAME:POLSCA
X-ORIGINAL-URL:https://polsca.pan.pl
X-WR-CALDESC:Wydarzenia na POLSCA
BEGIN:VTIMEZONE
TZID:Europe/Warsaw
BEGIN:DAYLIGHT
TZOFFSETFROM:+0100
TZOFFSETTO:+0200
TZNAME:CEST
DTSTART:20220327T010000
END:DAYLIGHT
BEGIN:STANDARD
TZOFFSETFROM:+0200
TZOFFSETTO:+0100
TZNAME:CET
DTSTART:20221030T010000
END:STANDARD
END:VTIMEZONE
BEGIN:VEVENT
DTSTART;TZID=Europe/Warsaw:20220520T090000
DTEND;TZID=Europe/Warsaw:20220520T123000
DTSTAMP:20260422T155540
CREATED:20220513T145059Z
LAST-MODIFIED:20220620T170506Z
UID:9491-1653037200-1653049800@polsca.pan.pl
SUMMARY:Horizon Europe Navigators MeetUp - partner search & networking
DESCRIPTION:Kolejne spotkanie sieci menadżerów nauki Horizon Europe Navigators będzie poświęcone tematyce skutecznego networkingu i poszukiwania partnerów do współpracy w kontekście projektów międzynarodowych finansowanych                w ramach Horyzontu Europa\, o czym opowie zaproszona przez nas dr Magdalena Głogowska z Krajowego Punktu Kontaktowego. \n\n\n\nPonadto pod kątem udziału w wydarzeniach brokerskich lub naukowych spotkaniach sieciujących\, zaadresowane zostaną kwestie związane ze sztuką autoprezentacji przez naukowców i menadżerów badań\, z którymi zapozna uczestników spotkania Natalia Osica z Pro Science.
URL:https://polsca.pan.pl/events/horizon-europe-navigators-meetup-2/
LOCATION:NAŁĘCZ INSTITUTE OF BIOCYBERNETICS AND BIOMEDICAL ENGINEERING PAS\, UL. KSIĘCIA TROJDENA 4\, WARSAW\, 02-109\, Poland
GEO:50.8369933;4.3704063
X-APPLE-STRUCTURED-LOCATION;VALUE=URI;X-ADDRESS=NAŁĘCZ INSTITUTE OF BIOCYBERNETICS AND BIOMEDICAL ENGINEERING PAS UL. KSIĘCIA TROJDENA 4 WARSAW 02-109 Poland;X-APPLE-RADIUS=500;X-TITLE=UL. KSIĘCIA TROJDENA 4:geo:4.3704063,50.8369933
END:VEVENT
END:VCALENDAR