BEGIN:VCALENDAR
VERSION:2.0
PRODID:-//POLSCA - ECPv5.9.1//NONSGML v1.0//EN
CALSCALE:GREGORIAN
METHOD:PUBLISH
X-WR-CALNAME:POLSCA
X-ORIGINAL-URL:https://polsca.pan.pl
X-WR-CALDESC:Wydarzenia na POLSCA
BEGIN:VTIMEZONE
TZID:Europe/Warsaw
BEGIN:DAYLIGHT
TZOFFSETFROM:+0100
TZOFFSETTO:+0200
TZNAME:CEST
DTSTART:20220327T010000
END:DAYLIGHT
BEGIN:STANDARD
TZOFFSETFROM:+0200
TZOFFSETTO:+0100
TZNAME:CET
DTSTART:20221030T010000
END:STANDARD
END:VTIMEZONE
BEGIN:VEVENT
DTSTART;TZID=Europe/Warsaw:20220428T133000
DTEND;TZID=Europe/Warsaw:20220428T160000
DTSTAMP:20260422T095121
CREATED:20220414T104237Z
LAST-MODIFIED:20220414T120331Z
UID:9369-1651152600-1651161600@polsca.pan.pl
SUMMARY:Horizon Europe Navigators MeetUp
DESCRIPTION:Spotkanie członków sieci  \n\n\n\n\n\nKolejne spotkanie sieci menadżerów nauki w ramach Instytutów PAN\, tzw. Horizon Europe Navigators – zainicjowane w 2021 roku w synergii z programem PASIFIC – będzie poświęcone procesowi przygotowania programów pracy Horyzontu Europa wraz z określeniem roli poszczególnych podmiotów na różnych etapach tego procesu (komitet programowy\, grupy doradcze\, konsultacje publiczne itp.).
URL:https://polsca.pan.pl/events/horizon-europe-navigators-meetup/
LOCATION:NAŁĘCZ INSTITUTE OF BIOCYBERNETICS AND BIOMEDICAL ENGINEERING PAS\, UL. KSIĘCIA TROJDENA 4\, WARSAW\, 02-109\, Poland
GEO:50.8369933;4.3704063
X-APPLE-STRUCTURED-LOCATION;VALUE=URI;X-ADDRESS=NAŁĘCZ INSTITUTE OF BIOCYBERNETICS AND BIOMEDICAL ENGINEERING PAS UL. KSIĘCIA TROJDENA 4 WARSAW 02-109 Poland;X-APPLE-RADIUS=500;X-TITLE=UL. KSIĘCIA TROJDENA 4:geo:4.3704063,50.8369933
END:VEVENT
END:VCALENDAR