BEGIN:VCALENDAR
VERSION:2.0
PRODID:-//POLSCA - ECPv5.9.1//NONSGML v1.0//EN
CALSCALE:GREGORIAN
METHOD:PUBLISH
X-WR-CALNAME:POLSCA
X-ORIGINAL-URL:https://polsca.pan.pl
X-WR-CALDESC:Wydarzenia na POLSCA
BEGIN:VTIMEZONE
TZID:UTC
BEGIN:STANDARD
TZOFFSETFROM:+0000
TZOFFSETTO:+0000
TZNAME:UTC
DTSTART:20210101T000000
END:STANDARD
END:VTIMEZONE
BEGIN:VEVENT
DTSTART;TZID=UTC:20210413T140000
DTEND;TZID=UTC:20210413T160000
DTSTAMP:20260423T060258
CREATED:20210623T072001Z
LAST-MODIFIED:20210929T091347Z
UID:7904-1618322400-1618329600@polsca.pan.pl
SUMMARY:Posiedzenie Rady Programowej Biura Promocji Nauki PolSCA PAN (kwiecień 2021)
DESCRIPTION:W dniu 13 kwietnia 2021 po raz czwarty zorganizowano Posiedzenie Rady Programowej Biura Promocji Nauki PolSCA PAN\, które ponownie zostało zorganizowane w formule online.\n\nW spotkaniu udział wzięli następujący członkowie Rady Programowej w kadencji 2019 – 2022:\n\n \n\n \n\n 	dr hab. Marek Konarzewski\, Instytut Biologii Uniwersytetu w Białymstoku\, członek PAN\, Przewodniczący Rady Programowej Biura PolSCA\,\n 	dr hab. Bogusław Buszewski\, Wydział Chemii UMK\, czł. koresp. PAN\,\n 	dr hab. Agnieszka Dobrzyń\, Dyrektor Instytutu Nenckiego PAN\,\n 	dr hab. Agnieszka Cianciara\, prof. ISP PAN\, Instytut Studiów Politycznych PAN\,\n 	Magdalena Pszczółkowska\, Zastępca Dyrektor Instytutu Polskiego w Brukseli\,\n 	Agata Janaszczyk\, Radca ds. badań naukowych\, Stałe Przedstawicielstwo RP przy UE\,\n 	dr Tomasz Poprawka\, Dyrektor Biura PolSCA.\n\nPonadto\, w wydarzeniu uczestniczyli: prof. dr hab. Roman Słowiński (Wiceprezes PAN)\, dr Anna Plater-Zyberk (Dyrektor Biura Współpracy z Zagranicą PAN)\, Maria Rogala (Zastępca Dyrektora Biura Współpracy z Zagranicą PAN) oraz przedstawicielki zespołu Biura PolSCA w Brukseli.\n\nGłównym elementem spotkania była prezentacja sprawozdania z działalności biura za minione półrocze\, tj. od czasu poprzedniego posiedzenia w październiku 2020 wraz z omówieniem planów na pozostałą cześć 2021 roku. Dyrektor Tomasz Poprawka\, przy współudziale dwóch ekspertek Biura dr Justyny Kramarczyk oraz Joanny Komperdy\,  przedstawił główne nurty działań Biura PolSCA\, czyli monitoring polityki naukowej UE\, komunikację i upowszechnianie informacji \, a także wsparcie uczestnictwa w programach Unii Europejskiej\, w szczególności wobec społeczności naukowej Akademii. Członkowie Rady dyskutowali na temat zorganizowanych już wydarzeń\, planowanych działań oraz szeregu wyzwań i priorytetów związanych z pracą Biura PolSCA PAN w Brukseli.\n\nNastępne posiedzenie Rady Programowej zaplanowane jest na październik 2021.
URL:https://polsca.pan.pl/events/posiedzenie-rady-programowej-biura-promocji-nauki-polsca-pan-kwiecien-2021/
LOCATION:Rue du Trône 98\, Brussels\, 1050\, Belgium
ATTACH;FMTTYPE=image/jpeg:https://polsca.pan.pl/wp-content/uploads/IV-Posiedzenie-Rady-Programowej-Biura-PolSCA.jpg
END:VEVENT
END:VCALENDAR