BEGIN:VCALENDAR
VERSION:2.0
PRODID:-//POLSCA - ECPv5.9.1//NONSGML v1.0//EN
CALSCALE:GREGORIAN
METHOD:PUBLISH
X-WR-CALNAME:POLSCA
X-ORIGINAL-URL:https://polsca.pan.pl
X-WR-CALDESC:Wydarzenia na POLSCA
BEGIN:VTIMEZONE
TZID:Europe/Warsaw
BEGIN:DAYLIGHT
TZOFFSETFROM:+0100
TZOFFSETTO:+0200
TZNAME:CEST
DTSTART:20220327T010000
END:DAYLIGHT
BEGIN:STANDARD
TZOFFSETFROM:+0200
TZOFFSETTO:+0100
TZNAME:CET
DTSTART:20221030T010000
END:STANDARD
END:VTIMEZONE
BEGIN:VEVENT
DTSTART;TZID=Europe/Warsaw:20220512T093000
DTEND;TZID=Europe/Warsaw:20220512T130000
DTSTAMP:20260425T201923
CREATED:20220414T110757Z
LAST-MODIFIED:20220506T134525Z
UID:9372-1652347800-1652360400@polsca.pan.pl
SUMMARY:Societal Transformations in the Digital Age: Opportunities for Interdisciplinary Research in Horizon Europe
DESCRIPTION:Mamy przyjemność zaprosić Państwa do udziału w konferencji internetowej i wydarzeniu networkingowym pod tytułem „Societal Transformations in the Digital Age: Opportunities for Interdisciplinary Research in Horizon Europe”\, które odbędzie się online 12 maja 2022 r. w godzinach 9.30-13.00 (CEST). \n\n\n\n\n\n\n\nWydarzenie jest organizowane wspólnie przez cztery biura łącznikowe z siedzibą w Brukseli: Lithuanian RDI Liaison Office (LINO)\, Netherlands house for Education and Research (Neth-ER)\, Polish Science Contact Agency (PolSCA) oraz Slovak Liaison Office for Research and Development (SLORD). \n\n\n\nNaszym celem jest zgromadzenie środowiska naukowego zajmującego się zagadnieniami związanymi z wpływem technologii cyfrowych na społeczeństwo. \n\n\n\nPrzez pół dnia będziemy: \n\n\n\n· omawiać aktualne wyzwania związane z cyfrową transformacją demokracji i życia społeczno-gospodarczego\, \n\n\n\n· przedstawiać ciekawe przykłady projektów interdyscyplinarnych\, łączących różne środowiska badawcze i innowacyjne\, \n\n\n\n· poznawać główne możliwości finansowania dostępne dla naukowców działających w tej dziedzinie. \n\n\n\nWydarzenie skierowane jest do badaczy\, kierowników badań i projektów\, władz publicznych oraz wszystkich osób\, które chcą się przyłączyć. Dzięki uruchomieniu platformy sieciowej będzie również możliwość nawiązania nowych współprac i partnerstw. \n\n\n\n\n\n\n\nREJESTRACJA: tutaj \n\n\n\n\n\n\n\nWSTĘPNY PROGRAM SPOTKANIA: \n\n\n\n9.30 – 9.35 Welcome by the organisers \n\n\n\n9.35 – 10.20 Digital transformation of our democracies and socio-economic life: the current challenges \n\n\n\nMarie-Hélène Boulanger\, Head of Unit\, Union citizenship rights and Free movement\, DG JUST\, European CommissionVladimír Šucha\, Head of the Representation of the European Commission in Bratislava\n\n\n\n10.20 – 10.30 Break \n\n\n\n10.30 – 11.20 Connecting the communities: Examples of interdisciplinary research \n\n\n\nDEMOS (Democratic Efficacy and the Varieties of Populism in Europe) – Andrej Školkay\, Research Team Leader\, School of Communication and Media\, SlovakiaOPERAS (Open Scholarly Communication in the European Research Area for Social Sciences and Humanities) – Marta Błaszczyńska – Cooordinator and Senior Open Science Officer & Digital Humanities Centre at the Institute of Literary Research of the Polish Academy of Sciences\, Poland; Dr Magdalena Wnuk – Open Science Officer; Digital Humanities Centre at the Institute of Literary Research of the Polish Academy of Sciences\, PolandRobotics4EU (Societal acceptance of AI-based robotics) – Thomas Gitsoudis\, innovation manager\, AgriFood Lithuania DIH\n\n\n\n11.20 – 11.30 Break \n\n\n\n11.30 – 12.55 Funding opportunities and synergies \n\n\n\nMalwina Gębalska\, CHANSE (Collaboration of Humanities and Social Sciences in Europe) Programme Coordinator\, National Science Centre\, PolandFrancisco de la Torre Francia\, Deputy Head of Unit\, Democracy & European Values\, Directorate-General for Research and Innovation\, European CommissionBeatrice Lucaroni\, Policy Officer\, Fair Societies and Cultural Heritage\, Directorate-General for Research and Innovation\, European CommissionKristina Kardum\, Coordinator for Digital Transformation\, Digital Europe Programme\, Directorate-General for Communications Networks\, Content and Technology\, European Commission\n\n\n\n12:55 – 13:00 Closing remarks \n\n\n\n14.30 – 15.30 Online networking session (Wonder.me platform)
URL:https://polsca.pan.pl/events/societal-transformations-in-the-digital-age-opportunities-for-interdisciplinary-research-in-horizon-europe/
LOCATION:NAŁĘCZ INSTITUTE OF BIOCYBERNETICS AND BIOMEDICAL ENGINEERING PAS\, UL. KSIĘCIA TROJDENA 4\, WARSAW\, 02-109\, Poland
GEO:50.8369933;4.3704063
X-APPLE-STRUCTURED-LOCATION;VALUE=URI;X-ADDRESS=NAŁĘCZ INSTITUTE OF BIOCYBERNETICS AND BIOMEDICAL ENGINEERING PAS UL. KSIĘCIA TROJDENA 4 WARSAW 02-109 Poland;X-APPLE-RADIUS=500;X-TITLE=UL. KSIĘCIA TROJDENA 4:geo:4.3704063,50.8369933
END:VEVENT
END:VCALENDAR