BEGIN:VCALENDAR
VERSION:2.0
PRODID:-//POLSCA - ECPv5.9.1//NONSGML v1.0//EN
CALSCALE:GREGORIAN
METHOD:PUBLISH
X-WR-CALNAME:POLSCA
X-ORIGINAL-URL:https://polsca.pan.pl
X-WR-CALDESC:Wydarzenia na POLSCA
BEGIN:VTIMEZONE
TZID:Europe/Warsaw
BEGIN:DAYLIGHT
TZOFFSETFROM:+0100
TZOFFSETTO:+0200
TZNAME:CEST
DTSTART:20230326T010000
END:DAYLIGHT
BEGIN:STANDARD
TZOFFSETFROM:+0200
TZOFFSETTO:+0100
TZNAME:CET
DTSTART:20231029T010000
END:STANDARD
END:VTIMEZONE
BEGIN:VEVENT
DTSTART;TZID=Europe/Warsaw:20230525T080000
DTEND;TZID=Europe/Warsaw:20230525T170000
DTSTAMP:20260422T233657
CREATED:20230424T142811Z
LAST-MODIFIED:20230516T145124Z
UID:10446-1685001600-1685034000@polsca.pan.pl
SUMMARY:#V4conference on Cyber Issues
DESCRIPTION:Najbliższa konferencja krajów Grupy Wyszehradzkiej\, tzw. #V4conference\, będzie poświęcona zagadnieniom cybernetycznym. Wydarzenie\, które odbędzie się w Brukseli\, będzie miało charakter debaty wysokiego szczebla i eksperckiej dyskusji na temat najbardziej aktualnych i kluczowych tematów związanych z cyberbezpieczeństwem. \n\n\n\n\n\n\n\n\n\n\n\n \n\n\n\nKonferencja ta jest organizowana przez słowacki Narodowy Urząd Bezpieczeństwa we współpracy ze Stałym Przedstawicielstwem Republiki Słowackiej przy UE i biurami V4 ds. badań i innowacji w Brukseli: Słowackim Biurem Łącznikowym ds. Badań i Rozwoju (SLORD)\, Czeskim Biurem Łącznikowym ds. Edukacji i Badań (CZELO)\, Biurem Promocji Nauki Polskiej Akademii Nauk (PolSCA) i Węgierskiem Narodowym Biurem Badań\, Rozwoju i Innowacji (NRDIO). \n\n\n\nWydarzenie zaplanowane na czwartek 25 maja 2023 r. podzielono na cztery bloki tematyczne\, w ramach których doświadczeni paneliści podzielą się swoją wiedzą i spostrzeżeniami w odpowiedzi na pytania dotyczące całościowego krajobrazu cyberbezpieczeństwa\, dyplomacji cybernetycznej i cyfrowej\, rozwoju badań i innowacji oraz ram regulacyjnych. Serdecznie zapraszamy do włączenia się w to wydarzenie: zapoznania się z najnowszymi wynikami badań\,  ale i wyzwaniami w cyberprzestrzeni\, zaangażowania w dyskusję i skorzystania z możliwości nawiązywania kontaktów w Brukseli oraz w ramach Grupy V4. \n\n\n\nProgram wydarzenia \n\n\n\n08.15 Rejestracja i powitalna kawa \n\n\n\n08.40 Otwarcie \n\n\n\nPetra Vargova\, Stała Przedstawicielki Republiki Słowackiej przy UERastislav Janota\, dyrektor Słowackiego Narodowego Centrum Cyberbezpieczeństwa\n\n\n\n9.00 – 16.45 Dyskusje panelowe \n\n\n\nOgólny krajobraz obszaru cyberbezpieczeństw: mocne strony i wyzwaniaDyplomacja cybernetyczna i cyfrowa: europejskie wartości na skraju transformacji cyfrowejNowe technologie i branże: jak uwzględnić pojawiające się trendy technologiczne i przygotować nas na przyszłość – perspektywa badawczaBieżące ramy cyberbezpieczeństwa: czy jesteśmy przygotowani na zagrożenia?\n\n\n\nREJESTRACJA \n\n\n\nPEŁNY PROGRAM \n\n\n\nBiuro PolSCA PAN zaangażowane jest w panel dotyczący badań w obszarze cyberbezpieczeństwa i rozwoju nowych technologii. W tym zakresie zaprosiliśmy do udziału w wydarzeniu prof. Magdalenę Stobińską (UW)\, która kieruje Grupą Badawczą Kwantowych Technologii „QCAT” na Wydziale Fizyki Uniwersytetu Warszawskiego. \n\n\n\nSzczegóły dotyczące panelu poniżej: \n\n\n\nObecny okres ewolucji technologicznej okazuje się najbardziej progresywny w historii\, przewyższa nawet nadejście internetu. Nowe technologie oraz trwające badania i innowacje w dziedzinach takich jak sztuczna inteligencja i obliczenia kwantowe przyniosą szeroko zakrojone implikacje dla naszego społeczeństwa i gospodarek\, w tym także nowe zagrożenia dla bezpieczeństwa cybernetycznego. Wdrażanie niektórych z tych technologii de facto już się rozpoczęło i zmienia sposób\, w jaki ludzie żyją\, uczą się\, pracują i budują społeczeństwo. Na przykład sztuczna inteligencja pomaga firmom efektywniej komunikować się z klientami\, lekarzom lepiej leczyć swoich pacjentów\, a rządom wydajniej świadczyć usługi. Jednocześnie\, by wymienić tylko kilka zagrożeń: istnieje coraz więcej dowodów na to\, że sztuczna inteligencja jest wykorzystywana przez hakerów i złośliwe podmioty\, bierze udział w generowaniu dezinformacji i „deep fake”. Technologie kwantowe są na wcześniejszych etapach rozwoju niż sztuczna inteligencja\, ale korzyści i zagrożenia\, jakie przyniosą w przyszłości będą równie znaczące. \n\n\n\nMagdalena Stobińska\, Profesor\, Uniwersytet WarszawskiIvan Kotuliak\, Dziekan Wydziału Informatyki i Technologii Informacyjnych\, Słowacki Uniwersytet Techniczny w BratysławieJakub Harašta\, Adiunkt\, Instytut Prawa i Technologii\, Uniwersytet Masaryka w BrnieImre Lendák\, Adiunkt\, Katedra Nauki o Danych i Inżynierii\, Wydział Informatyki\, Uniwersytet Loránda Eötvösa w Budapeszcie
URL:https://polsca.pan.pl/events/v4conference-on-cyber-issues/
END:VEVENT
END:VCALENDAR