BEGIN:VCALENDAR
VERSION:2.0
PRODID:-//POLSCA - ECPv5.9.1//NONSGML v1.0//EN
CALSCALE:GREGORIAN
METHOD:PUBLISH
X-WR-CALNAME:POLSCA
X-ORIGINAL-URL:https://polsca.pan.pl
X-WR-CALDESC:Wydarzenia na POLSCA
BEGIN:VTIMEZONE
TZID:Europe/Warsaw
BEGIN:DAYLIGHT
TZOFFSETFROM:+0100
TZOFFSETTO:+0200
TZNAME:CEST
DTSTART:20210328T010000
END:DAYLIGHT
BEGIN:STANDARD
TZOFFSETFROM:+0200
TZOFFSETTO:+0100
TZNAME:CET
DTSTART:20211031T010000
END:STANDARD
END:VTIMEZONE
BEGIN:VEVENT
DTSTART;TZID=Europe/Warsaw:20211117T100000
DTEND;TZID=Europe/Warsaw:20211117T130000
DTSTAMP:20260423T060309
CREATED:20211104T135057Z
LAST-MODIFIED:20211123T163344Z
UID:8495-1637143200-1637154000@polsca.pan.pl
SUMMARY:Webinarium Czy uda się uratować 3 miliony ludzi przed rakiem? – Misja Rak w Horyzoncie Europa i Europejski Plan Walki z Rakiem
DESCRIPTION:Biuro Promocji Nauki PolSCA PAN w Brukseli wraz z Biurem Narodowego Centrum Badań i Rozwoju (BSP) w Brukseli zapraszają na webinarium „Czy uda się uratować 3 miliony ludzi przed rakiem? – Misja Rak w Horyzoncie Europa i Europejski Plan Walki z Rakiem”\, które odbędzie się w środę 17 listopada w godz. 10:00 – 13.00. \n\n\n\n\n\n\n\n\n\nRak dotyka każdego\, niezależnie od wieku\, płci czy statusu społecznego i stanowi ogromne obciążenie dla pacjentów\, rodzin i ogółu społeczeństwa. Jeśli nie zostaną podjęte żadne dalsze działania\, liczba osób\, u których co roku diagnozuje się nowotwór w Europie wzrośnie z obecnych 3\,5 miliona do ponad 4\,3 miliona do 2035 roku. Misja w tej dziedzinie pomoże ustalić wspólne cele mające na celu odwrócenie tych przerażających trendów w zakresie nowotworów. Łącząc wysiłki w całej Europie\, Misja wraz z Europejskim Planem Walki z Rakiem ma wspierać zapobieganie zachorowaniom na raka\, umożliwiać wczesną diagnozę\, zmniejszać cierpienie i poprawiać jakość życia pacjentów onkologicznych w trakcie i po leczeniu. \n\n\n\nAby zapewnić konkretne rozwiązania\, Rada Misji zaproponowała ambitny cel: „Do 2030 r. uratowanych zostanie ponad 3 miliony istnień ludzkich\, żyjących dłużej i lepiej”. Główne cele Misji skupią się na: zrozumieniu raka\, profilaktyce (w tym badaniach przesiewowych i wczesnym wykrywaniu)\, diagnozie i leczeniu oraz poprawie jakość życia osób żyjących z chorobą nowotworową i po nowotworach\, przy jednoczesnym zapewnieniu równego dostępu dla wszystkich. Celem webinarium jest dostarczenie uczestnikom najważniejszych informacji o Misji oraz Europejskim Planie Walki z Rakiem. \n\n\n\nW spotkaniu wezmą udział: Przedstawicielki Komisji Europejskiej – Joanna Drake\, Mission Manager\, Zastępca Dyrektora Generalnego ds. Badań i Innowacji oraz Annika Nowak\, które opowiedzą o głównych założeniach i celach Misji dot. Raka i Europejskim Planie Walki z Rakiem\, Prof. Konrad Rydzyński\, członek Rady Misji oraz eksperci reprezentujący obszary nauki\, biznesu\, administracji i społeczeństwa obywatelskiego. Podczas dwóch paneli dyskusyjnych będą oni rozmawiać o tym\, jak podejmowane w Polsce działania w zakresie badań przyczynią się do zwiększenia zrozumienia i wykrywania raka oraz jak efektywnie leczyć pacjentów z nowotworami i zapewnić lepszą jakość życia. Na koniec spotkania przewidziana jest sesja pytań i odpowiedzi z prelegentami. \n\n\n\nWśród zaproszonych ekspertów jest również przedstawiciel Polskiej Akademii Nauk: prof. dr hab. Marek Figlerowicz z Instytutu Chemii Bioorganicznej PAN w Poznaniu. \n\n\n\nZapraszamy wszystkich zainteresowanych do wzięcia udziału w tym wydarzeniu! \n\n\n\nProgram wydarzenia jest dostępny TUTAJ. Udział w wydarzeniu wymaga rejestracji za pomocą formularza dostępnego pod LINKIEM.
URL:https://polsca.pan.pl/events/webinarium-czy-uda-sie-uratowac-3-miliony-ludzi-przed-rakiem-misja-rak-w-horyzoncie-europa-i-europejski-plan-walki-z-rakiem/
LOCATION:NAŁĘCZ INSTITUTE OF BIOCYBERNETICS AND BIOMEDICAL ENGINEERING PAS\, UL. KSIĘCIA TROJDENA 4\, WARSAW\, 02-109\, Poland
ATTACH;FMTTYPE=image/png:https://polsca.pan.pl/wp-content/uploads/Misja-Rak-baner.png
GEO:50.8369933;4.3704063
X-APPLE-STRUCTURED-LOCATION;VALUE=URI;X-ADDRESS=NAŁĘCZ INSTITUTE OF BIOCYBERNETICS AND BIOMEDICAL ENGINEERING PAS UL. KSIĘCIA TROJDENA 4 WARSAW 02-109 Poland;X-APPLE-RADIUS=500;X-TITLE=UL. KSIĘCIA TROJDENA 4:geo:4.3704063,50.8369933
END:VEVENT
END:VCALENDAR