BEGIN:VCALENDAR
VERSION:2.0
PRODID:-//POLSCA - ECPv5.9.1//NONSGML v1.0//EN
CALSCALE:GREGORIAN
METHOD:PUBLISH
X-WR-CALNAME:POLSCA
X-ORIGINAL-URL:https://polsca.pan.pl
X-WR-CALDESC:Wydarzenia na POLSCA
BEGIN:VTIMEZONE
TZID:Europe/Warsaw
BEGIN:DAYLIGHT
TZOFFSETFROM:+0100
TZOFFSETTO:+0200
TZNAME:CEST
DTSTART:20220327T010000
END:DAYLIGHT
BEGIN:STANDARD
TZOFFSETFROM:+0200
TZOFFSETTO:+0100
TZNAME:CET
DTSTART:20221030T010000
END:STANDARD
END:VTIMEZONE
BEGIN:VEVENT
DTSTART;TZID=Europe/Warsaw:20220218T093000
DTEND;TZID=Europe/Warsaw:20220218T123000
DTSTAMP:20260423T005403
CREATED:20220203T151655Z
LAST-MODIFIED:20220204T092635Z
UID:9026-1645176600-1645187400@polsca.pan.pl
SUMMARY:Webinarium: Finansowanie projektów międzynarodowych. Oferta konkursowa NCN i NCBR
DESCRIPTION:Biuro Promocji Nauki PolSCA PAN w Brukseli we współpracy z Narodowym Centrum Nauki i Narodowym Centrum Badań i Rozwoju zapraszają na spotkanie szkoleniowe na temat konkursów międzynarodowych na projekty badawcze\, realizowane we współpracy wielostronnej\, w szczególności w ramach programów ramowych Horyzont 2020 i Horyzont Europa. \n\n\n\n\n\n\n\n\n\nGośćmi szkolenia będą przedstawiciele NCN i NCBR\, którzy omówią warunki ubiegania się o środki finansowe w programach wielostronnych\, a nade wszystko – przedstawią aktualną ofertę konkursową obu agencji w tym zakresie\, z uwzględnieniem inicjatyw planowanych na drugą połowę roku 2022. \n\n\n\nSzkolenie skierowane jest do pracowników naukowych oraz administracyjnych Polskiej Akademii Nauk i odbędzie się w dniu 18 lutego br. w godz. 9.30 – 12.00 w formule online w języku angielskim. \n\n\n\nWszystkich zainteresowanych udziałem w szkoleniu prosimy o dokonanie rejestracji za pomocą formularza\, który został rozesłany drogą mailową wśród pracowników Polskiej Akademii Nauk\, głównie za pośrednictwem pracowników administracyjnych pełniących rolę Horizon Europe Navigators. Na Państwa zgłoszenia czekamy do 16 lutego. Udział w szkoleniu jest bezpłatny. \n\n\n\nSpotkanie stanowi część Cyklu webinariów PolSCA wokół Horyzontu Europa\, realizowanego w synergii z programem PASIFIC.  \n\n\n\nProgram wydarzenia dostępny jest TUTAJ. \n\n\n\nLista prezentowanych podczas wydarzenia konkursów dostępna jest POD LINKIEM.
URL:https://polsca.pan.pl/events/webinarium-finansowanie-projektow-miedzynarodowych-oferta-konkursowa-ncn-i-ncbr/
LOCATION:NAŁĘCZ INSTITUTE OF BIOCYBERNETICS AND BIOMEDICAL ENGINEERING PAS\, UL. KSIĘCIA TROJDENA 4\, WARSAW\, 02-109\, Poland
ATTACH;FMTTYPE=image/jpeg:https://polsca.pan.pl/wp-content/uploads/Webinaria-PolSCA-oferta-NCN-NCBR.jpg
GEO:50.8369933;4.3704063
X-APPLE-STRUCTURED-LOCATION;VALUE=URI;X-ADDRESS=NAŁĘCZ INSTITUTE OF BIOCYBERNETICS AND BIOMEDICAL ENGINEERING PAS UL. KSIĘCIA TROJDENA 4 WARSAW 02-109 Poland;X-APPLE-RADIUS=500;X-TITLE=UL. KSIĘCIA TROJDENA 4:geo:4.3704063,50.8369933
END:VEVENT
END:VCALENDAR