BEGIN:VCALENDAR
VERSION:2.0
PRODID:-//POLSCA - ECPv5.9.1//NONSGML v1.0//EN
CALSCALE:GREGORIAN
METHOD:PUBLISH
X-WR-CALNAME:POLSCA
X-ORIGINAL-URL:https://polsca.pan.pl
X-WR-CALDESC:Wydarzenia na POLSCA
BEGIN:VTIMEZONE
TZID:Europe/Warsaw
BEGIN:DAYLIGHT
TZOFFSETFROM:+0100
TZOFFSETTO:+0200
TZNAME:CEST
DTSTART:20220327T010000
END:DAYLIGHT
BEGIN:STANDARD
TZOFFSETFROM:+0200
TZOFFSETTO:+0100
TZNAME:CET
DTSTART:20221030T010000
END:STANDARD
END:VTIMEZONE
BEGIN:VEVENT
DTSTART;TZID=Europe/Warsaw:20220310T100000
DTEND;TZID=Europe/Warsaw:20220310T120000
DTSTAMP:20260423T002307
CREATED:20220223T143808Z
LAST-MODIFIED:20220301T101707Z
UID:9204-1646906400-1646913600@polsca.pan.pl
SUMMARY:Webinarium: “Gender equality in European Research\, Innovation and Higher Education. How to enhance scientific excellence through Gender Equality Plans?”
DESCRIPTION:UE podejmuje działania w zakresie promowania równości płci we wszystkich obszarach\, a sektor badań i innowacji (R&I) nie jest wyjątkiem. Pomimo poprawy sytuacji\, nadal istnieje wiele barier strukturalnych dla równości płci w obszarze badań i innowacji. \n\n\n\nRaport She Figures 2021 zawiera dane i analizy dotyczące około 88 wskaźników monitorujących stan równości płci w sektorze badań i innowacji w całej Europie. Na przykład\, nowy wskaźnik pokazuje\, że kobiety stanowiły mniej niż jedną czwartą samozatrudnionych specjalistów w dziedzinie nauki i inżynierii oraz ICT. Równość płci została również uwzględniona w programie Horyzont Europa poprzez wymóg Planów na rzecz równości płci. \n\n\n\n\n\n\n\nAby przyczynić się do wzmocnienia debaty nt. zagadnień związanych z równością płci CZELO\, LINO\, PolSCA i SLORD wspólnie organizują webinarium Gender equality in European Research\, Innovation and Higher Education. How to enhance scientific excellence through Gender Equality Plans? \n\n\n\nCelem tego wydarzenia jest przedstawienie przeglądu najnowszych zmian w polityce równości płci UE. Przedstawione zostaną również najnowsze badania nt. temat z Czech\, Litwy\, Polski i Słowacji. \n\n\n\nRejestracja poprzez formularz: tutaj. \n\n\n\nLink do spotkania zostanie wysłany 9 marca 2022 r. \n\n\n\nSzczegółowa agenda dostępna jest: tutaj. \n\n\n\n \n\n\n\nAGENDA \n\n\n\n10:00 – 10:05    Welcome remarks \n\n\n\n10:05 – 10:25    Mina Stareva\, Head of Sector – Gender\, DG Research and Innovation at European Commission \n\n\n\n10:25 – 10:35    Q&A \n\n\n\n10:35 – 10:45    Czech Republic: Marcela Linková\, Head of the Centre for Gender and Science at the Institute of Sociology of the Czech Academy of Sciences \n\n\n\n10:45 – 10:55    Lithuania: Agnė Paliokaitė\, Science and innovation policy researcher\, Founder and Director of international research institute Visionary Analytics; Aurelija Novelskaitė\, Associate Professor of Vilnius University \n\n\n\n10:55 – 11:05    Poland: Anna Knapińska\, Assistant Professor at the National Information Processing Institute \n\n\n\n11:05 – 11:15    Slovakia: Gabriel Bianchi\, Deputy Director at the Institute for Research in Social Communication of the Slovak Academy of Sciences \n\n\n\n11:15 – 11:55    Roundtable discussion: How to enhance scientific excellence through Gender Equality Plans? \n\n\n\n11:55 – 12:00    Closing remarks
URL:https://polsca.pan.pl/events/webinarium-gender-equality-in-european-research-innovation-and-higher-education-how-to-enhance-scientific-excellence-through-gender-equality-plans/
LOCATION:NAŁĘCZ INSTITUTE OF BIOCYBERNETICS AND BIOMEDICAL ENGINEERING PAS\, UL. KSIĘCIA TROJDENA 4\, WARSAW\, 02-109\, Poland
GEO:50.8369933;4.3704063
X-APPLE-STRUCTURED-LOCATION;VALUE=URI;X-ADDRESS=NAŁĘCZ INSTITUTE OF BIOCYBERNETICS AND BIOMEDICAL ENGINEERING PAS UL. KSIĘCIA TROJDENA 4 WARSAW 02-109 Poland;X-APPLE-RADIUS=500;X-TITLE=UL. KSIĘCIA TROJDENA 4:geo:4.3704063,50.8369933
END:VEVENT
END:VCALENDAR