BEGIN:VCALENDAR
VERSION:2.0
PRODID:-//POLSCA - ECPv5.9.1//NONSGML v1.0//EN
CALSCALE:GREGORIAN
METHOD:PUBLISH
X-WR-CALNAME:POLSCA
X-ORIGINAL-URL:https://polsca.pan.pl
X-WR-CALDESC:Wydarzenia na POLSCA
BEGIN:VTIMEZONE
TZID:UTC
BEGIN:STANDARD
TZOFFSETFROM:+0000
TZOFFSETTO:+0000
TZNAME:UTC
DTSTART:20210101T000000
END:STANDARD
END:VTIMEZONE
BEGIN:VEVENT
DTSTART;TZID=UTC:20210621T110000
DTEND;TZID=UTC:20210621T131500
DTSTAMP:20260423T004350
CREATED:20210608T122603Z
LAST-MODIFIED:20210929T100631Z
UID:7799-1624273200-1624281300@polsca.pan.pl
SUMMARY:Webinarium: Misja 100 miast neutralnych dla klimatu do 2030 r. - dla obywateli\, dzięki obywatelom
DESCRIPTION:W imieniu organizatorów – Biura PolSCA PAN w Brukseli oraz Biura NCBR w Brukseli (BSP) – serdecznie zapraszamy do udziału w webinarium „Misja 100 miast neutralnych dla klimatu do 2030 r. – dla obywateli\, dzięki obywatelom”\, które odbędzie się 21 czerwca 2021 r. w godz. 11:00 – 13:15.\n\nMiasta zajmują 3% powierzchni ziemi\, ale wytwarzają około 72% wszystkich globalnych emisji gazów cieplarnianych. Ponadto miasta szybko się rozwijają – według szacunków do 2050 r. 85% Europejczyków będzie mieszkańcami miast. Misja „100 miast neutralnych dla klimatu do 2030 – dla obywateli\, dzięki obywatelom” będzie wspierać nowe idee\, badania naukowe i innowacje\, które pomogą miastom w przeprowadzeniu systemowej transformacji w kierunku neutralności klimatycznej.\n\nPrzygotowany przez Zarząd Misji raport jest propozycją działań\, jakie należy podjąć\, aby w 10 lat osiągnąć cel w postaci 100 klimatycznie neutralnych ośrodków miejskich w skali kontynentu. Spośród wielu wątków\, które przewijają się w raporcie\, wybrano dwa tematy do dyskusji: zintegrowane planowanie miejskie oraz zaangażowanie mieszkańców\, bez którego – jak wynika z raportu – misja nie może się powieść.\n\nW spotkaniu wezmą udział: Pani Rosalinde van der Vlies z Komisji Europejskiej\, która opowie o celach i głównych założeniach Misji\, profesor Hanna Gronkiewicz-Waltz\, przewodnicząca Zarządu Misji „Neutralne klimatycznie i inteligentne miasta” oraz znakomici prelegenci – eksperci w zakresie tematyki miejskiej\, którzy będą uczestniczyć w dwóch panelach dyskusyjnych. PAN będą reprezentować dr Cezary Mazurek\, Poznańskie Centrum Superkomputerowo-Sieciowe afiliowane przy Instytucie Chemii Bioorganicznej PAN\, oraz prof. Bożena Degórska z Instytutu Geografii i Przestrzennego Zagospodarowania PAN. Na koniec spotkania przewidziana jest sesja pytań i odpowiedzi z prelegentami.\n\nZapraszamy wszystkich zainteresowanych tematem misji europejskich do wzięcia udziału w tym wydarzeniu\, którego agendę znajdą Państwo tutaj.\n\nRejestracja jest dostępna pod linkiem.
URL:https://polsca.pan.pl/events/webinarium-misja-100-miast-neutralnych-dla-klimatu-do-2030-r-dla-obywateli-dzieki-obywatelom/
LOCATION:Rue du Trône 98\, Brussels\, 1050\, Belgium
ATTACH;FMTTYPE=image/jpeg:https://polsca.pan.pl/wp-content/uploads/Misja-100-Miast-infografika-1-e1623161707631.jpg
END:VEVENT
END:VCALENDAR