BEGIN:VCALENDAR
VERSION:2.0
PRODID:-//POLSCA - ECPv5.9.1//NONSGML v1.0//EN
CALSCALE:GREGORIAN
METHOD:PUBLISH
X-WR-CALNAME:POLSCA
X-ORIGINAL-URL:https://polsca.pan.pl
X-WR-CALDESC:Wydarzenia na POLSCA
BEGIN:VTIMEZONE
TZID:UTC
BEGIN:STANDARD
TZOFFSETFROM:+0000
TZOFFSETTO:+0000
TZNAME:UTC
DTSTART:20180101T000000
END:STANDARD
END:VTIMEZONE
BEGIN:VEVENT
DTSTART;TZID=UTC:20181128T130000
DTEND;TZID=UTC:20181128T200000
DTSTAMP:20260425T211951
CREATED:20181126T143544Z
LAST-MODIFIED:20181126T143544Z
UID:2984-1543410000-1543435200@polsca.pan.pl
SUMMARY:From Horizon 2020 to Horizon Europe - 3rd Meeting of the Polish NCP Network
DESCRIPTION:NCP_NETWORK_BRU_28_11_2018
URL:https://polsca.pan.pl/events/from-horizon-2020-horizon-europe-3rd-meeting-of-the-polish-ncp-network/
LOCATION:Dom Polski Wschodniej\, Avenue de Tervueren 48\, Bruxelles\, 1040\, Belgium
ORGANIZER;CN="National%20Contact%20Point%20For%20Research%20Programmes%20of%20the%20EU":MAILTO:kpk@kpk.gov.pl
GEO:50.8390813;4.4017751
X-APPLE-STRUCTURED-LOCATION;VALUE=URI;X-ADDRESS=Dom Polski Wschodniej Avenue de Tervueren 48 Bruxelles 1040 Belgium;X-APPLE-RADIUS=500;X-TITLE=Avenue de Tervueren 48:geo:4.4017751,50.8390813
END:VEVENT
END:VCALENDAR