BEGIN:VCALENDAR
VERSION:2.0
PRODID:-//POLSCA - ECPv5.9.1//NONSGML v1.0//EN
CALSCALE:GREGORIAN
METHOD:PUBLISH
X-WR-CALNAME:POLSCA
X-ORIGINAL-URL:https://polsca.pan.pl
X-WR-CALDESC:Wydarzenia na POLSCA
BEGIN:VTIMEZONE
TZID:UTC
BEGIN:STANDARD
TZOFFSETFROM:+0000
TZOFFSETTO:+0000
TZNAME:UTC
DTSTART:20210101T000000
END:STANDARD
END:VTIMEZONE
BEGIN:VEVENT
DTSTART;TZID=UTC:20210205T130000
DTEND;TZID=UTC:20210205T143000
DTSTAMP:20260423T094656
CREATED:20210205T082938Z
LAST-MODIFIED:20210205T125255Z
UID:7231-1612530000-1612535400@polsca.pan.pl
SUMMARY:Webinarium: konkursy międzynarodowych sieci typu ERA-Net / JPI. Oferta NCN
DESCRIPTION:Biuro Promocji Nauki PolSCA PAN w Brukseli we współpracy z Narodowym Centrum Nauki zapraszają na spotkanie szkoleniowe na temat konkursów międzynarodowych na projekty badawcze\, realizowane we współpracy wielostronnej (konkursy typu Era-Net) w ramach Horyzontu 2020. Szkolenie skierowane jest wyłącznie do pracowników naukowych oraz administracyjnych Polskiej Akademii Nauk i odbędzie się w dniu 5 lutego 2021 r. (piątek) w godz. od 13.00 do 14.30 w formule online. \nCelem szkolenia będzie przede wszystkim zaprezentowanie procesu przygotowania konkursów w ramach sieci międzynarodowych\, procesu składania i oceny wniosków\, i co szczególnie interesujące – przedstawienia aktualnej oferty konkursowej NCN w tym zakresie. \nSzczegółowa agenda spotkania dostępna jest tutaj. \n  \n 
URL:https://polsca.pan.pl/events/konkursy-miedzynarodowych-sieci-typu-era-net-jpi-oferta-narodowego-centrum-nauki/
LOCATION:Rue du Trône 98\, Brussels\, 1050\, Belgium
ATTACH;FMTTYPE=image/jpeg:https://polsca.pan.pl/wp-content/uploads/1_H2020-e1612279788910.jpg
END:VEVENT
END:VCALENDAR