BEGIN:VCALENDAR
VERSION:2.0
PRODID:-//POLSCA - ECPv5.9.1//NONSGML v1.0//EN
CALSCALE:GREGORIAN
METHOD:PUBLISH
X-WR-CALNAME:POLSCA
X-ORIGINAL-URL:https://polsca.pan.pl
X-WR-CALDESC:Wydarzenia na POLSCA
BEGIN:VTIMEZONE
TZID:UTC
BEGIN:STANDARD
TZOFFSETFROM:+0000
TZOFFSETTO:+0000
TZNAME:UTC
DTSTART:20170101T000000
END:STANDARD
END:VTIMEZONE
BEGIN:VEVENT
DTSTART;TZID=UTC:20210629T133000
DTEND;TZID=UTC:20210629T170000
DTSTAMP:20260421T115533
CREATED:20210616T082029Z
LAST-MODIFIED:20210929T091215Z
UID:7855-1624973400-1624986000@polsca.pan.pl
SUMMARY:Wydarzenie: V4 Conference 2021 - Earth Observations for citizens and the planet
DESCRIPTION:Biuro Promocji Nauki „PolSCA” Polskiej Akademii Nauk wraz z Czeskim Biurem Łącznikowym ds. Badań\, Rozwoju i Innowacji (CZELO)\, Narodowym Biurem Badań\, Rozwoju i Innowacji na Węgrzech (NRDIO) oraz Słowackim Biurem Łącznikowym ds. Badań i Rozwoju (SLORD) mają zaszczyt zaprosić na wspólne wydarzenie w ramach polskiej prezydencji w Grupie Wyszehradzkiej „V4 Conference – Earth Observations for citizens and the planet’ \, które odbędzie się online 29 czerwca o godz. 13.30. \n\nCelem V4 Conference 2021 jest zgromadzenie szerokiego grona podmiotów zaangażowanych w badania i innowacje (B+R) w dziedzinie Obserwacji Ziemi ze szczególnym uwzględnieniem perspektywy Grupy Wyszehradzkiej. Konferencja stanowi forum do dyskusji nad kluczową rolą B+R w europejskim programie Copernicus.\n\nUczestnicy wydarzeni będą mieli szansę dowiedzieć się więcej o europejskiej strategii wykorzystania produktów i usług w obszarze satelitarnej obserwacji Ziemi – w celu wsparcia koniecznej transformacji ekonomicznej\, zmian zachowań Europejczyków oraz ochrony naszej planety. W celu zwrócenia uwagi na sektor kosmiczny w Europie Środkowo-Wschodniej\, na specjalnej sesji zostaną przedstawione historie sukcesów projektów realizowanych w krajach Grupy Wyszehradzkiej przez naukowców i organizacje zaangażowanych w opracowywanie\, wdrażanie i wykorzystywanie globalnej infrastruktury kosmicznej oraz aplikacji i danych do monitorowania Ziemi. Będą one przykładami wkładu sektora kosmicznego w krajach V4 w Europejski Zielony Ład i Strategię Kosmiczną dla Europy. Na koniec planowana jest dyskusja panelowa z udziałem kluczowych europejskich podmiotów sektora Space/EO w celu omówienia obecnego stanu i przyszłych wyzwań związanych z badaniami i innowacjami w ramach i dla programu Copernicus.\n\nWydarzenie będzie również okazją do mobilizowania i wzmacniania współpracy między europejskimi naukowcami i innowatorami\, organizacjami badawczymi i sektorem przemysłu\, a także różnymi podmiotami w dziedzinie obserwacji Ziemi.\n\nKonferencja jest otwarta dla wszystkich zainteresowanych tematyką zarówno pod kątem ewolucji usług w programie Copernicus\, jak i rozwoju aplikacji oraz przetwarzania i wykorzystywania danych pochodzących z obserwacji satelitarnych Ziemi.\n\nPełny program konferencji wraz z jej agendą oraz dokumentami pomocniczymi dostępny jest na stronie wydarzenia.\n\nJak: platforma CISCO WEBEX\n\nZaproszeni paneliści:\n\n 	Matthias Petschke\, Dyrektor – Przestrzeń Kosmiczna\, Dyrekcja Generalna ds. Przemysłu Obronnego i Przestrzeni Kosmicznej (DEFIS)\, Komisja Europejska\n 	Philippe Tulkens\, Kierownik Działu – Klimat i Granice Planetarne\, Dyrekcja Generalna ds. Badań Naukowych i Innowacji (RTD)\, Komisja Europejska\n 	Simonetta Cheli\, Kierownik Strategii\, Biuro Programów i Koordynacji\, Dyrekcja Programów Obserwacji Ziemi\, Europejska Agencja Kosmiczna\n 	Laurent Leylekian\, Strategiczny Komitet wykonawczy\, Stowarzyszenie Europejskich Organizacji Badawczych Sektora Kosmicznego\n 	Hans Bracquene\, Przewodniczący\, Stowarzyszenie SME4SPACE\n 	Przedstawiciele organizacji z Grupy V4\n\nLink do rejestracji dostępny jest tutaj. \n\n \n\n 
URL:https://polsca.pan.pl/events/wydarzenie-v4conference2021-earth-observations-for-citizens-and-the-planet/
LOCATION:Rue du Trône 98\, Brussels\, 1050\, Belgium
ATTACH;FMTTYPE=image/png:https://polsca.pan.pl/wp-content/uploads/copernicus-banner-v5full-e1623838867340.png
END:VEVENT
BEGIN:VEVENT
DTSTART;TZID=UTC:20190327T090000
DTEND;TZID=UTC:20190329T150000
DTSTAMP:20260421T115533
CREATED:20190325T082844Z
LAST-MODIFIED:20190326T095750Z
UID:3735-1553677200-1553871600@polsca.pan.pl
SUMMARY:Szkolenie "V4 Training"
DESCRIPTION:W dniach 27-29 marca 2019 r. w Brukseli odbędzie się wiosenna edycja szkolenia „V4” Training\, które Biuro PolSCA współorganizuje wraz z Czech Liaison Office for R&D (CZELO)\, Slovak Liaison Office for Research and Development (SLORD) oraz Stałym Przedstawicielstwem Węgier przy UE. \nJest ono przeznaczone dla pracowników szkół wyższych oraz instytutów naukowo-badawczych\, którzy na co dzień zajmują się zarządzaniem projektami europejskimi\, przede wszystkim w ramach  Horyzontu 2020.  Językiem  szkolenia  jest  angielski\, a tematyka koncentruje się zarówno wokół najważniejszych  zagadnień  dotyczących  8.  programu  ramowego\, jak i kolejnego\, który będzie funkcjonował pod nazwą Horyzont Europa. Wykłady oraz warsztaty prowadzone są przez specjalistów m.in. z Komisji Europejskiej oraz europejskich instytucji działających w Brukseli na rzecz badań naukowych i innowacji. \nSzczegółowy program szkolenia znajdą Państwo tutaj.
URL:https://polsca.pan.pl/events/szkolenie-v4-training-2/
LOCATION:Rue du Trône 98\, Brussels\, 1050\, Belgium
ATTACH;FMTTYPE=image/jpeg:https://polsca.pan.pl/wp-content/uploads/v4-visegrad-group-country-flag-vector-2625260-e1568968199186.jpg
END:VEVENT
BEGIN:VEVENT
DTSTART;TZID=UTC:20180418T093000
DTEND;TZID=UTC:20180420T141500
DTSTAMP:20260421T115533
CREATED:20180209T080533Z
LAST-MODIFIED:20180419T101025Z
UID:2200-1524043800-1524233700@polsca.pan.pl
SUMMARY:Szkolenie V4 "Training"
DESCRIPTION:
URL:https://polsca.pan.pl/events/szkolenie-v4-training/
LOCATION:Helmholtz meeting room\, Rue du Trône 98\, Brussels\, 1050\, Belgium
ATTACH;FMTTYPE=image/png:https://polsca.pan.pl/wp-content/uploads/Visegrad_group.png
GEO:50.8369946;4.3705137
X-APPLE-STRUCTURED-LOCATION;VALUE=URI;X-ADDRESS=Helmholtz meeting room Rue du Trône 98 Brussels 1050 Belgium;X-APPLE-RADIUS=500;X-TITLE=Rue du Trône 98:geo:4.3705137,50.8369946
END:VEVENT
BEGIN:VEVENT
DTSTART;TZID=UTC:20170601T093000
DTEND;TZID=UTC:20170601T143000
DTSTAMP:20260421T115533
CREATED:20170407T105328Z
LAST-MODIFIED:20170608T103631Z
UID:1644-1496309400-1496327400@polsca.pan.pl
SUMMARY:Circular economy in Visegrad Group (V4) countries  – current state and challenges
DESCRIPTION:A circular economy is an industrial system that replaces the ‘end-of-life’ concept with restoration\, shifts towards the use of renewable energy\, eliminates the use of toxic chemicals\, which impair reuse\, and aims for the elimination of waste through the superior design of materials\, products\, systems\, and\, within this\, business models. \nThe elements of circular economy include: \n\nwaste management\,\na strict differentiation between consumable and durable components of a product\, replacement the concept of a consumer with that of a user\,\nenergy efficiency.\n\nA circular economy requires improvements in material selection and product design (circular design)\, innovative business models\, increase in general awareness and creation the skill base. \nA transition towards circular economy will therefore generate new jobs\, increase productivity and will boost R&I activities. The latter may be treated as a circular economy enablers. \nThe European Commission adopted an ambitious Circular Economy Package that establishes a concrete and ambitious programme of action\, with measures covering the whole cycle: from production and consumption to waste management and the market for secondary raw materials. \nFor all V4 countries implementation of a circular economy is a chance for a faster economic growth respecting sustainability principle and taking into account social needs. The aim of the event is to share experience of V4 countries in implementation of circular economy\, presentation of the best practices in this field including social innovation and discussion of main challenges. \n     \nAGENDA\n\n\n9.30 – 10.00\nREGISTRATION\n\n10.00 – 10.30\nINTRODUCTION\n\nKarolina D’Cunha\, Deputy Head of Unit European Commission DG Environment\, Directorate B Circular Economy & Green Growth\nVasileios Rizos\, Research Fellow\, CEPS (Centre for European Policy Studies)\n\n\n10.30-11.15\nPART I – MAIN R&I ACTIVITIES RELATED TO CIRCULAR ECONOMY\nKarolina Zázvorková – moderator\, European Commission DG Environment\nDirectorate B3 – Waste Management & Secondary Materials \n\nBarna Kovács – advisor to BIOEAST\, Hungarian Ministry of Agriculture\, Hungary\nPavol Alexy\, Slovak University of Technology in Bratislava\, Slovakia\nVladimír Kočí\, University of Chemistry and Technology\, Prague\, Czech Republic\n\n\n11.15-11.30\nLET’S TALK ABOUT GARBAGE EXHIBITION\n\nMarcin Szczelina\, Architecture Snobs\, Poland\n\n\n11.30 – 12.00\nCOFFEE BREAK\n\n12.00-13.30\nPART II – GOOD PRACTICES\nMałgorzata Gołębiewska – moderator\, European Commission\nDG Environment\, Directorate B Circular Economy & Green Growth \n\nTomasz Wojciechowski\, Circular Economy Institute\, Poland\nKatarzyna Barc\, Oddam Odpady Initiative\, Poland\nMiroslav Galamboš\, Panaraplast\, Slovakia\nJiří Brejcha\, MITAS a. s.\, Czech Republic\n\n\n13.30 – 14.30\nLUNCH\n  \n  \nPRESENTATIONS: \nBarna Kovacs \nJiri Brejcha \nVasileios Rizos \nMarcin Szczelina \nVladimir Koci \nKatarzyna Barc \n  \n                                                    COORGANIZORS\n \n  \n  \n                        PARTNER \n \n 
URL:https://polsca.pan.pl/events/circular-economy-in-visegrad-group-v4-countries-current-state-and-challenges/
LOCATION:Permanent Representation of Hungary to the EU\, Rue de Trèves 92-98\, Brussels\, 1050\, Belgium
ATTACH;FMTTYPE=image/jpeg:https://polsca.pan.pl/wp-content/uploads/Circular-economy-conference.jpg
GEO:50.8425174;4.3748232
X-APPLE-STRUCTURED-LOCATION;VALUE=URI;X-ADDRESS=Permanent Representation of Hungary to the EU Rue de Trèves 92-98 Brussels 1050 Belgium;X-APPLE-RADIUS=500;X-TITLE=Rue de Trèves 92-98:geo:4.3748232,50.8425174
END:VEVENT
END:VCALENDAR