BEGIN:VCALENDAR
VERSION:2.0
PRODID:-//POLSCA - ECPv5.9.1//NONSGML v1.0//EN
CALSCALE:GREGORIAN
METHOD:PUBLISH
X-WR-CALNAME:POLSCA
X-ORIGINAL-URL:https://polsca.pan.pl
X-WR-CALDESC:Wydarzenia na POLSCA
BEGIN:VTIMEZONE
TZID:Europe/Warsaw
BEGIN:DAYLIGHT
TZOFFSETFROM:+0100
TZOFFSETTO:+0200
TZNAME:CEST
DTSTART:20220327T010000
END:DAYLIGHT
BEGIN:STANDARD
TZOFFSETFROM:+0200
TZOFFSETTO:+0100
TZNAME:CET
DTSTART:20221030T010000
END:STANDARD
END:VTIMEZONE
BEGIN:VEVENT
DTSTART;TZID=Europe/Warsaw:20221012T090000
DTEND;TZID=Europe/Warsaw:20221014T140000
DTSTAMP:20260421T210512
CREATED:20220927T102307Z
LAST-MODIFIED:20220927T104106Z
UID:9819-1665565200-1665756000@polsca.pan.pl
SUMMARY:V4 Training - jesień 2022
DESCRIPTION:V4 Training to szkolenie przeznaczone dla doświadczonych menadżerów badań pracujących w działach projektów (przede wszystkim międzynarodowych: H2020 i Horyzont Europa) na uczelniach\, w instytutach naukowych i badawczych w działach odpowiedzialnych za pozyskiwanie\, zarządzanie i raportowanie z każdego kraju Grupy Wyszehradzkiej oraz z krajów stowarzyszonych w IGLO (Informal Group of RTD Liaison Offices).  \n\n\n\nWydarzenie jest organizowane w Brukseli przez Biuro PolSCA wraz z Czeskim Biurem Łącznikowym ds. Edukacji i Nauki (CZELO)\, Narodowym Biurem Badań\, Rozwoju i Innowacji na Węgrzech (NRDIO) oraz Słowackim Biurem Łącznikowym ds. Badań i Rozwoju (SLORD)\, a łączna liczba uczestników to 35 osób.  \n\n\n\nPodczas najbliższej edycji\, która odbędzie się między 12 a 14 października uczestnicy poszerzą swoją wiedzę w obszarze europejskich badań i innowacji\, zarządzania projektami oraz wsparcia naukowców. Swoimi doświadczeniami podzielą się eksperci m.in. z biur łącznikowych\, Komisji Europejskiej\, uniwersytetów we Francji i w Belgii czy instytutu badawczego HETFA.
URL:https://polsca.pan.pl/events/v4-training-jesien-2022/
END:VEVENT
END:VCALENDAR