BEGIN:VCALENDAR
VERSION:2.0
PRODID:-//POLSCA - ECPv5.9.1//NONSGML v1.0//EN
CALSCALE:GREGORIAN
METHOD:PUBLISH
X-WR-CALNAME:POLSCA
X-ORIGINAL-URL:https://polsca.pan.pl
X-WR-CALDESC:Wydarzenia na POLSCA
BEGIN:VTIMEZONE
TZID:Europe/Warsaw
BEGIN:DAYLIGHT
TZOFFSETFROM:+0100
TZOFFSETTO:+0200
TZNAME:CEST
DTSTART:20220327T010000
END:DAYLIGHT
BEGIN:STANDARD
TZOFFSETFROM:+0200
TZOFFSETTO:+0100
TZNAME:CET
DTSTART:20221030T010000
END:STANDARD
END:VTIMEZONE
BEGIN:VEVENT
DTSTART;TZID=Europe/Warsaw:20221201T093000
DTEND;TZID=Europe/Warsaw:20221201T120000
DTSTAMP:20260419T160132
CREATED:20221117T084751Z
LAST-MODIFIED:20221117T150041Z
UID:9978-1669887000-1669896000@polsca.pan.pl
SUMMARY:Spotkanie Horizon Europe Navigators: Horizon Europe financial novelties. From project-based remuneration to lump sum funding
DESCRIPTION:Zbliżające się spotkanie sieci menedżerów nauki Horizon Navigators z instytutów Polskiej Akademii Nauk poświęcone będzie budżetowaniu projektów\, w szczególności polityce wynagrodzeń. \n\n\n\nProgram ramowy Horyzont Europa wprowadził kilka nowości w zarządzaniu finansowym projektów\, takie jak stawki dzienne czy wynagrodzenie ryczałtowe. Jednocześnie metoda project-based remuneration pozostaje dostępna dla beneficjentów. Możliwe jest również zastosowanie kosztów jednostkowych w ramach określonych instrumentów. \n\n\n\nPodczas spotkanie przegląd nowości w zakresie finansów i proponowanych uproszczeń przedstawi słuchaczom przedstawiciel Komisji Europejskiej. \n\n\n\nNastępnie ekspert Horyzontalnego Punktu Kontaktowego w Polsce omówi możliwości i scenariusze dla Instytutów PAN w zakresie zarządzania wynagrodzeniami projektowymi. \n\n\n\nNa koniec uczestnicy będą mieli okazję omówić i podzielić się swoimi doświadczeniami z zarządzania finansami w projektach Horyzontu Europa\, przede wszystkim w zakresie wynagrodzeń.
URL:https://polsca.pan.pl/events/horizon-europe-navigators-meetup-horizon-europe-financial-novelties-from-project-based-remuneration-to-lump-sum-funding/
LOCATION:NAŁĘCZ INSTITUTE OF BIOCYBERNETICS AND BIOMEDICAL ENGINEERING PAS\, UL. KSIĘCIA TROJDENA 4\, WARSAW\, 02-109\, Poland
GEO:50.8369933;4.3704063
X-APPLE-STRUCTURED-LOCATION;VALUE=URI;X-ADDRESS=NAŁĘCZ INSTITUTE OF BIOCYBERNETICS AND BIOMEDICAL ENGINEERING PAS UL. KSIĘCIA TROJDENA 4 WARSAW 02-109 Poland;X-APPLE-RADIUS=500;X-TITLE=UL. KSIĘCIA TROJDENA 4:geo:4.3704063,50.8369933
END:VEVENT
END:VCALENDAR