BEGIN:VCALENDAR
VERSION:2.0
PRODID:-//POLSCA - ECPv5.9.1//NONSGML v1.0//EN
CALSCALE:GREGORIAN
METHOD:PUBLISH
X-WR-CALNAME:POLSCA
X-ORIGINAL-URL:https://polsca.pan.pl
X-WR-CALDESC:Wydarzenia na POLSCA
BEGIN:VTIMEZONE
TZID:Europe/Warsaw
BEGIN:DAYLIGHT
TZOFFSETFROM:+0100
TZOFFSETTO:+0200
TZNAME:CEST
DTSTART:20250330T010000
END:DAYLIGHT
BEGIN:STANDARD
TZOFFSETFROM:+0200
TZOFFSETTO:+0100
TZNAME:CET
DTSTART:20251026T010000
END:STANDARD
END:VTIMEZONE
BEGIN:VEVENT
DTSTART;TZID=Europe/Warsaw:20251120T000000
DTEND;TZID=Europe/Warsaw:20251120T235959
DTSTAMP:20260425T060221
CREATED:20250723T111555Z
LAST-MODIFIED:20260122T104830Z
UID:13575-1763596800-1763683199@polsca.pan.pl
SUMMARY:Match-making MEDIA\, MIGRACJE i EDUKACJA
DESCRIPTION:Wydarzenie promujące współpracę w ramach Klastra 2 HE na lata 2026-2027!\n\n\n\n\n\n\n\n\n\nBiuro PolSCA we współpracy z biurami łącznikowymi IGLO w Brukseli reprezentującymi łącznie 12 państw członkowskich\, tj. Austrię\, Czechy\, Francję\, Włochy\, Łotwę\, Litwę\, Polskę\, Słowację i Hiszpanię z udziałem przedstawicieli z Niemiec\, Holandii i Wielkiej Brytanii organizuje spotkanie matchmakingowe dla osób zainteresowanych nadchodzącymi zaproszeniami do składania projektów\, które zostaną opublikowane w ramach Programu Pracy 2026-2027 – Klaster 2. Wydarzenie odbędzie się osobiście w Brukseli 20 listopada 2025 r. i skupi się na tematach związanych z mediami\, migracją i edukacją. \n\n\n\n\n\n\n\nOrganizatorzy wybrali 12 tematów na podstawie projektu Programu Pracy 2026-2027 oficjalnie udostępnionego przez Komisję Europejską w Comitology Register (zobacz dokument).  \n\n\n\nDla kogo?  \n\n\n\nWydarzenie skierowane jest do naukowców oraz innych osób zaangażowanych lub planujących zaangażowanie w ramach programu ramowego Horyzont Europa. Jeśli planujesz więc złożenie wniosku w naborze 2026 w obszarze tematycznym media\, migracje i edukacja\, nie czekaj i zarejestruj się na wydarzenie! Osoba uczestnicząca w spotkaniu match-makingowym powinna być w stanie zaangażować się w dyskusje techniczne na temat przedstawionych pomysłów na projekt lub wiedzy specjalistycznej wniesionej do konsorcjum. \n\n\n\nRejestracja – ZAMKNIĘTA \n\n\n\nNa wydarzenie obowiązuje rejestracja\, która trwa do 7 września 2025. Ponieważ liczba dostępnych miejsc jest ograniczona do 5-7 osób na kraj\, wybierzemy uczestników na podstawie informacji podanych w formularzu rejestracyjnym. \n\n\n\nAgenda wydarzenia – pobierz \n\n\n\nWydarzenie match-makingowe oferuje możliwość:• zaprezentowania swojej instytucji\,• nawiązania nowych kontaktów z przedstawicielami zagranicznych uczelni i instytucji badawczych\,• omówienia potencjalnych możliwości współpracy przy projektach z partnerami z Hiszpanii\, Francji\, Austrii\, Łotwy\, Litwy\, Słowacji\, Włoch i Czech. \n\n\n\nSprawdź podsumowanie wydarzenia
URL:https://polsca.pan.pl/events/match-making-media-migracje-i-edukacja/
LOCATION:NAŁĘCZ INSTITUTE OF BIOCYBERNETICS AND BIOMEDICAL ENGINEERING PAS\, UL. KSIĘCIA TROJDENA 4\, WARSAW\, 02-109\, Poland
GEO:50.8369933;4.3704063
X-APPLE-STRUCTURED-LOCATION;VALUE=URI;X-ADDRESS=NAŁĘCZ INSTITUTE OF BIOCYBERNETICS AND BIOMEDICAL ENGINEERING PAS UL. KSIĘCIA TROJDENA 4 WARSAW 02-109 Poland;X-APPLE-RADIUS=500;X-TITLE=UL. KSIĘCIA TROJDENA 4:geo:4.3704063,50.8369933
END:VEVENT
END:VCALENDAR