BEGIN:VCALENDAR
VERSION:2.0
PRODID:-//POLSCA - ECPv5.9.1//NONSGML v1.0//EN
CALSCALE:GREGORIAN
METHOD:PUBLISH
X-WR-CALNAME:POLSCA
X-ORIGINAL-URL:https://polsca.pan.pl
X-WR-CALDESC:Wydarzenia na POLSCA
BEGIN:VTIMEZONE
TZID:Europe/Warsaw
BEGIN:DAYLIGHT
TZOFFSETFROM:+0100
TZOFFSETTO:+0200
TZNAME:CEST
DTSTART:20250330T010000
END:DAYLIGHT
BEGIN:STANDARD
TZOFFSETFROM:+0200
TZOFFSETTO:+0100
TZNAME:CET
DTSTART:20251026T010000
END:STANDARD
END:VTIMEZONE
BEGIN:VEVENT
DTSTART;TZID=Europe/Warsaw:20251204T000000
DTEND;TZID=Europe/Warsaw:20251204T235959
DTSTAMP:20260424T022148
CREATED:20251118T134406Z
LAST-MODIFIED:20260122T094538Z
UID:14062-1764806400-1764892799@polsca.pan.pl
SUMMARY:Diamond ERA: Promowanie otwartości w europejskiej przestrzeni badawczej - wydarzenie otwarte!
DESCRIPTION:Dołącz do czołowych polskich i europejskich instytucji badawczych podczas konferencji na żywo w Brukseli poświęconej Diamond Open Access\, która kształtuje przyszłość sprawiedliwego i innowacyjnego publikowania w dziedzinie nauk społecznych i humanistycznych. \n\n\n\n\n\n\n\nTermin konferencji jest szczególnie istotny. Trwające negocjacje dotyczące kolejnego programu ramowego „Horyzont Europa 2028–2034” oraz przygotowania do nowej ustawy ERA stanowią wyjątkową okazję do zapewnienia uwzględnienia modelu Diamond OA w kolejnej fazie europejskiej polityki badawczej. Jednocześnie model Diamond zyskuje uznanie\, na jakie zasługuje\, jako wiarygodna\, kierowana przez społeczność alternatywa dla komercyjnych platform wydawniczych. Ta rosnąca dynamika podkreśla potrzebę skoordynowanych działań w celu wzmocnienia zdolności Europy do otwartej\, niezależnej izrównoważonej komunikacji naukowej. Konferencja ma na celu przyczynienie się do tych wysiłków poprzez pozycjonowanie modelu Diamond jako kamienia węgielnego bardziej otwartego i odpornego europejskiego ekosystemu badawczego. \n\n\n\nW programie m.in:  \n\n\n\nSesja otwierająca: Perspektywy polityki w zakresie otwartego dostępu typu Diamond w Europie\n\n\n\nSesja prezentacyjna: Inicjatywy w zakresie otwartego dostępu typu Diamond realizowane przez instytucje i społeczności\n\n\n\nPrezentacja na temat Europejskiego Centrum Kompetencji Diamond\n\n\n\nDyskusja panelowa: Jak wspierać otwarty dostęp typu Diamond w europejskiej przestrzeni badawczej – dyskusja ze społecznością\n\n\n\nDyskusja panelowa: Indeksowanie treści w ramach otwartego dostępu typu Diamond\n\n\n\nNetworking i poczęstunek\n\n\n\nPodsumowanie wydarzenia TUTAJ \n\n\n\nKonferencja jest współorganizowana przez Centrum Humanistyki Cyfrowej Instytutu Badań Literackich Polskiej Akademii Nauk (IBL PAN\, Warszawa) – wiodący ośrodek humanistyki cyfrowej i kluczowego aktora na rzecz otwartej komunikacji naukowej w Polsce – oraz Biuro Promocji Nauki Polskiej Akademii Nauk w Brukseli (PolSCA PAS\, Bruksela)\, przy wsparciu infrastruktury badawczej OPERAS.Wydarzenie jest finansowane przez Polską Akademię Nauk. \n\n\n\nWięcej o wydarzeniu w AKTUALNOŚCI
URL:https://polsca.pan.pl/events/diamond-era-promowanie-otwartosci-w-europejskiej-przestrzeni-badawczej/
LOCATION:NAŁĘCZ INSTITUTE OF BIOCYBERNETICS AND BIOMEDICAL ENGINEERING PAS\, UL. KSIĘCIA TROJDENA 4\, WARSAW\, 02-109\, Poland
GEO:50.8369933;4.3704063
X-APPLE-STRUCTURED-LOCATION;VALUE=URI;X-ADDRESS=NAŁĘCZ INSTITUTE OF BIOCYBERNETICS AND BIOMEDICAL ENGINEERING PAS UL. KSIĘCIA TROJDENA 4 WARSAW 02-109 Poland;X-APPLE-RADIUS=500;X-TITLE=UL. KSIĘCIA TROJDENA 4:geo:4.3704063,50.8369933
END:VEVENT
END:VCALENDAR