BEGIN:VCALENDAR
VERSION:2.0
PRODID:-//POLSCA - ECPv5.9.1//NONSGML v1.0//EN
CALSCALE:GREGORIAN
METHOD:PUBLISH
X-WR-CALNAME:POLSCA
X-ORIGINAL-URL:https://polsca.pan.pl
X-WR-CALDESC:Wydarzenia na POLSCA
BEGIN:VTIMEZONE
TZID:Europe/Warsaw
BEGIN:DAYLIGHT
TZOFFSETFROM:+0100
TZOFFSETTO:+0200
TZNAME:CEST
DTSTART:20220327T010000
END:DAYLIGHT
BEGIN:STANDARD
TZOFFSETFROM:+0200
TZOFFSETTO:+0100
TZNAME:CET
DTSTART:20221030T010000
END:STANDARD
END:VTIMEZONE
BEGIN:VEVENT
DTSTART;TZID=Europe/Warsaw:20220907T093000
DTEND;TZID=Europe/Warsaw:20220907T113000
DTSTAMP:20260423T080103
CREATED:20220830T142239Z
LAST-MODIFIED:20220830T142546Z
UID:9801-1662543000-1662550200@polsca.pan.pl
SUMMARY:Spotkanie online zagranicznych Stacji Naukowych PAN: Działalność\, Plany\, Współpraca
DESCRIPTION:Stacje naukowe PAN w Paryżu\, Wiedniu\, Rzymie\, Przedstawicielstwo PAN w Kijowie\, Centrum Badań Historycznych PAN w Berlinie i Biuro Promocji Nauki PolSCA w Brukseli pracują nad rozpowszechnianiem informacji o osiągnięciach polskiej nauki zagranicą. Głównym celem jest promocja sukcesów badaczy\, pomoc przy nawiązywaniu kontaktów z zagranicznymi partnerami i wsparcie współpracy akademickiej. \n\n\n\n\n\n\n\nPodczas spotkania online społeczność naukowa Polskiej Akademii Nauk pozna działania zagranicznych Stacji naukowych i nawiąże bezpośredni kontakt z ich przedstawicielami.   \n\n\n\nRejestracja będzie otwarta do 5 września do godziny 17:00. \n\n\n\nZapraszamy do udziału w spotkaniu wszystkich zainteresowanych pracowników – zarówno naukowych\, jak i administracyjnych – instytutów i jednostek pomocniczych Polskiej Akademii Nauk! \n\n\n\nWięcej informacji wraz z programem w sekcji Aktualności w języku polskim i angielskim oraz na stronie PAN (wersja anglojęzyczna). 
URL:https://polsca.pan.pl/events/spotkanie-online-zagranicznych-stacji-naukowych-pan-dzialalnosc-plany-wspolpraca/
END:VEVENT
BEGIN:VEVENT
DTSTART;TZID=Europe/Warsaw:20220922T093000
DTEND;TZID=Europe/Warsaw:20220922T120000
DTSTAMP:20260423T080103
CREATED:20220902T125000Z
LAST-MODIFIED:20220902T130807Z
UID:9810-1663839000-1663848000@polsca.pan.pl
SUMMARY:Horizon Europe Navigators MeetUp - narzędzia online
DESCRIPTION:Zbliżające się spotkanie sieci menadżerów nauki Horizon Europe Navigators w Instytutach PAN będzie poświęcone będzie tematyce narzędzi online używanych przy projektach Horyzontu Europa\, ze szczególnym uwzględnieniem udziału Polskiej Akademii Nauk w HE. \n\n\n\nUczestnicy spotkania będą mieli możliwość odkrycia funkcjonalności takich narzędzi online Komisji Europejskiej jak Horizon Dashboard. Natomiast eksperci Krajowego Punktu Kontaktowego zaprezentują dane na temat projektów Horyzontu Europa i Horyzontu 2020 z uwzględnieniem uczestnictwa Polski i instytutów Polskiej Akademii Nauk.   
URL:https://polsca.pan.pl/events/horizon-europe-navigators-meetup-narzedzia-online/
END:VEVENT
END:VCALENDAR