BEGIN:VCALENDAR
VERSION:2.0
PRODID:-//POLSCA - ECPv5.9.1//NONSGML v1.0//EN
CALSCALE:GREGORIAN
METHOD:PUBLISH
X-WR-CALNAME:POLSCA
X-ORIGINAL-URL:https://polsca.pan.pl
X-WR-CALDESC:Wydarzenia na POLSCA
BEGIN:VTIMEZONE
TZID:Europe/Warsaw
BEGIN:DAYLIGHT
TZOFFSETFROM:+0100
TZOFFSETTO:+0200
TZNAME:CEST
DTSTART:20220327T010000
END:DAYLIGHT
BEGIN:STANDARD
TZOFFSETFROM:+0200
TZOFFSETTO:+0100
TZNAME:CET
DTSTART:20221030T010000
END:STANDARD
END:VTIMEZONE
BEGIN:VEVENT
DTSTART;TZID=Europe/Warsaw:20221104T093000
DTEND;TZID=Europe/Warsaw:20221104T120000
DTSTAMP:20260420T042719
CREATED:20221019T144009Z
LAST-MODIFIED:20221020T075718Z
UID:9918-1667554200-1667563200@polsca.pan.pl
SUMMARY:Spotkanie Horizon Europe Navigators – MSCA SE & Cofund calls 2022
DESCRIPTION:Listopadowe spotkanie sieci menadżerów nauki Horizon Europe Navigators w Instytutach PAN będzie poświęcone tematyce efektywnego udziału w konkursach Marii Skłodowskiej Curie Actions (MSCA) finansowanych w ramach filaru I (Doskonała nauka) programu Horyzont Europa. Tym razem uczestnicy spotkania będą mieli okazję przyjrzeć się nieco bardziej programom MSCA Cofund oraz MSCA Staff Exchange\, które zostaną zaprezentowane przez p. Aleksandrę Schoetz Sobczak oraz Alexandrę Pedersen Goncalves z European Research Executive Agency. \n\n\n\nPonadto omówione zostaną dobre praktyki we wspieraniu zaangażowania indywidualnych naukowców i instytucji w instrumenty MSCA\, w oparciu o działania istniejących sieci europejskich tj. p. Juliane Sauer z zespołu koordynującego MSCA-NET oraz beneficjentów instytucjonalnych o wysokim poziomie udziału w projektach MSCA\, m.in. p. Agnieszka Tadrzak z Instytutu Chemii Fizycznej PAN.
URL:https://polsca.pan.pl/events/horizon-europe-navigators-meetup-msca-se-cofund-calls-2022-2/
LOCATION:NAŁĘCZ INSTITUTE OF BIOCYBERNETICS AND BIOMEDICAL ENGINEERING PAS\, UL. KSIĘCIA TROJDENA 4\, WARSAW\, 02-109\, Poland
ATTACH;FMTTYPE=image/png:https://polsca.pan.pl/wp-content/uploads/Webinaria-PolSCA-HE-Navigators-MeetUp-No6_www.png
GEO:50.8369933;4.3704063
X-APPLE-STRUCTURED-LOCATION;VALUE=URI;X-ADDRESS=NAŁĘCZ INSTITUTE OF BIOCYBERNETICS AND BIOMEDICAL ENGINEERING PAS UL. KSIĘCIA TROJDENA 4 WARSAW 02-109 Poland;X-APPLE-RADIUS=500;X-TITLE=UL. KSIĘCIA TROJDENA 4:geo:4.3704063,50.8369933
END:VEVENT
BEGIN:VEVENT
DTSTART;TZID=Europe/Warsaw:20221110T093000
DTEND;TZID=Europe/Warsaw:20221110T123000
DTSTAMP:20260420T042719
CREATED:20221010T090825Z
LAST-MODIFIED:20221108T105336Z
UID:9883-1668072600-1668083400@polsca.pan.pl
SUMMARY:Webinarium PolSCA nt. Horyzontu Europa: Open Science in practice. Implications for project proposals and research management
DESCRIPTION:Biuro Promocji Nauki PolSCA PAN w Brukseli zaprasza pracowników Polskiej Akademii Nauk na kolejne spotkanie w ramach Cyklu webinariów PolSCA nt. Horyzontu Europa.  \n\n\n\nGłównym tematem tego webinarium będzie polityka otwartej nauki (Open Science) i otwartego dostępu (Open Access) oraz ich praktyczne implikacje dla przygotowywania wniosków projektowych do programu Horyzont Europa\, zarządzaniu projektami badawczymi i waloryzacji wyników badań. \n\n\n\n\n\nPodczas spotkania poruszymy zagadnienia takie jak: \n\n\n\nEuropean Commission’s policies and initiatives on open science \n\n\n\nFAIR data and the European Open Science Cloud \n\n\n\nOpen Science in practice of data management \n\n\n\nDissemination & Exploitation Strategy – using Horizon Results Booster and the Horizon Results Platform \n\n\n\n\n\nSzczegóły wydarzenia otwartego dla pracowników PAN znajdują się tutaj. \n\n\n\nAgenda spotkania dostępna jest tutaj.
URL:https://polsca.pan.pl/events/webinarium-polsca-nt-horyzontu-europa-open-science-in-practice-implications-for-research-project-proposals-and-management/
LOCATION:NAŁĘCZ INSTITUTE OF BIOCYBERNETICS AND BIOMEDICAL ENGINEERING PAS\, UL. KSIĘCIA TROJDENA 4\, WARSAW\, 02-109\, Poland
GEO:50.8369933;4.3704063
X-APPLE-STRUCTURED-LOCATION;VALUE=URI;X-ADDRESS=NAŁĘCZ INSTITUTE OF BIOCYBERNETICS AND BIOMEDICAL ENGINEERING PAS UL. KSIĘCIA TROJDENA 4 WARSAW 02-109 Poland;X-APPLE-RADIUS=500;X-TITLE=UL. KSIĘCIA TROJDENA 4:geo:4.3704063,50.8369933
END:VEVENT
BEGIN:VEVENT
DTSTART;TZID=Europe/Warsaw:20221117T093000
DTEND;TZID=Europe/Warsaw:20221117T130000
DTSTAMP:20260420T042719
CREATED:20221116T144926Z
LAST-MODIFIED:20221116T145031Z
UID:9970-1668677400-1668690000@polsca.pan.pl
SUMMARY:Spotkanie networkingowe PAN - CNR w kontekście Horyzontu Europa
DESCRIPTION:Biuro Promocji Nauki Polskiej PolSCA PAN w Brukseli oraz brukselskie biuro łącznikowe Włoskiej Rady ds. Badań Naukowych CNR organizują spotkanie sieciujące\, którego celem jest wsparcie wspólnych działań badaczy i badaczek PAN i CNR w inicjowaniu\, budowaniu konsorcjów międzynarodowych i łącznym występowaniu w konkursach Horyzontu Europa. Pomysł zrodził się w oparciu o ścisłą współpracę Biura PolSCA oraz biura łącznikowego CNR w Brukseli w ramach sieci IGLO. Obydwa biura wspólnie zdefiniowały potrzeby oraz partnerów z dużym potencjałem udziału w projektach międzynarodowych. \n\n\n\n\n\n\n\nPolska Akademia Nauk (PAN) i Włoska Rada ds. Badań Naukowych (CNR)\, jako organizacje prowadzące badania\, doceniają kluczową wartość międzynarodowych badań prowadzonych w ramach współpracy wielostronnej. Działające w Brukseli biura łącznikowe: PolSCA PAN Office i CNR Brussels Branch swoimi działaniami przyczyniają się do realizacji tych założeń. Ich wspólną misją jest dostarczanie interesariuszom odpowiednich informacji i odpowiedniego poziomu pomocy w procesie aplikowania o dotacje z Horyzontu Europa. Jednym ze sposobów osiągnięcia tego celu jest umożliwienie wyszukiwania partnerów i procesów budowania konsorcjów poprzez takie wydarzenia\, jak to organizowane 17 listopada. \n\n\n\nJako działania wstępne PolSCA – we współpracy z siecią menadżerów badań HE Navigators – zidentyfikowała badaczy i instytuty PAN zainteresowane (i) nawiązaniem partnerstwa akademickiego z naukowcami CNR lub (ii) dalszym rozwojem istniejącej współpracy. Interesariusze PAN zostali poproszeni o wskazanie ich zainteresowań jednostkami CNR oraz konkretnymi zespołami. Na podstawie odpowiedzi\, brukselski oddział CNR zweryfikował zainteresowanie odpowiednich interesariuszy po stronie CNR. Na tej bazie sporządzono ostateczną agendę spotkania brokerskiego on-line\, do którego zaproszono 17 naukowców z 11 instytutów PAN oraz ok. 35 naukowców ze struktur CNR. Po zakończeniu spotkania brokerskiego online\, współorganizatorzy przewidują spotkania warsztatowe na żywo\, które mają doprowadzić do zawiązania konsorcjum i wspólnego pisania wniosku projektowego.
URL:https://polsca.pan.pl/events/spotkanie-networkingowe-pan-cnr-w-kontekscie-horyzontu-europa/
LOCATION:NAŁĘCZ INSTITUTE OF BIOCYBERNETICS AND BIOMEDICAL ENGINEERING PAS\, UL. KSIĘCIA TROJDENA 4\, WARSAW\, 02-109\, Poland
ATTACH;FMTTYPE=image/png:https://polsca.pan.pl/wp-content/uploads/Grafika_Bilateral-matchmaking-PolSCA-no-1-CNR_v2-1.png
GEO:50.8369933;4.3704063
X-APPLE-STRUCTURED-LOCATION;VALUE=URI;X-ADDRESS=NAŁĘCZ INSTITUTE OF BIOCYBERNETICS AND BIOMEDICAL ENGINEERING PAS UL. KSIĘCIA TROJDENA 4 WARSAW 02-109 Poland;X-APPLE-RADIUS=500;X-TITLE=UL. KSIĘCIA TROJDENA 4:geo:4.3704063,50.8369933
END:VEVENT
END:VCALENDAR