BEGIN:VCALENDAR
VERSION:2.0
PRODID:-//POLSCA - ECPv5.9.1//NONSGML v1.0//EN
CALSCALE:GREGORIAN
METHOD:PUBLISH
X-WR-CALNAME:POLSCA
X-ORIGINAL-URL:https://polsca.pan.pl
X-WR-CALDESC:Wydarzenia na POLSCA
BEGIN:VTIMEZONE
TZID:Europe/Warsaw
BEGIN:DAYLIGHT
TZOFFSETFROM:+0100
TZOFFSETTO:+0200
TZNAME:CEST
DTSTART:20250330T010000
END:DAYLIGHT
BEGIN:STANDARD
TZOFFSETFROM:+0200
TZOFFSETTO:+0100
TZNAME:CET
DTSTART:20251026T010000
END:STANDARD
END:VTIMEZONE
BEGIN:VEVENT
DTSTART;TZID=Europe/Warsaw:20251104T000000
DTEND;TZID=Europe/Warsaw:20251105T235959
DTSTAMP:20260423T010308
CREATED:20250616T084041Z
LAST-MODIFIED:20251117T122358Z
UID:13411-1762214400-1762387199@polsca.pan.pl
SUMMARY:I Kongres Menedżerów Badań Naukowych Europy Środkowej i Wschodniej - nowe\, regionalne forum dla społeczności RMA
DESCRIPTION:4 & 5 listopada 2025\, Bruksela – w tych dniach odbędzie się pierwszy Kongres Menedżerów i Administratorów Badań z Europy Środkowo-Wschodniej (CEE Congress for RMAs). Dwa dni programu zaprojektowano tak\, by przejść przez cały cykl życia projektu – od rozwoju talentów RMA\, przez koncepcję i budżet wniosku\, aż po wdrażanie i raportowanie wpływu – w formule łączącej sesje plenarne\, równoległe warsztaty\, sesje fokusowe i networking. \n\n\n\n\n\n\n\nSkąd wziął się Kongres? Geneza i dlaczego „właśnie teraz”? \n\n\n\n \n\n\n\nKongres wyrasta z dekady V4 Trainings for Research Project Managers – cyklu szkoleń organizowanych wspólnie przez brukselskie biura łącznikowe Czech (CZELO)\, Węgier (NRDIO)\, Polski (PolSCA) i Słowacji (SLORD). Ta wieloletnia\, praktyczna współpraca naturalnie ewoluowała w paneuropejską platformę dla regionu CEE\, której ambicją jest wzmacnianie rozpoznawalności zawodu RMA\, wymiana dobrych praktyk i współtworzenie standardów. To zarazem przejście z poziomu warsztatów do wydarzenia flagowego\, budującego trwałe sieci\, dialog z decydentami i partnerstwa instytucjonalne. \n\n\n\nDlaczego właśnie teraz? Bo społeczność RMA w regionie potrzebuje dedykowanej przestrzeni do łączenia sił między instytucjami i krajami\, aby przyspieszać rozwój kompetencji na każdym etapie cyklu projektu\, w sposób spójny z priorytetami ERA i otwarty na partnerów z całej Europy. \n\n\n\nKonferencja obejmie cały cykl życia projektu badawczego\, z sesjami poświęconymi: \n\n\n\nDzień 1 – Setting the Stage for Research Management Excellence\n\n\n\nSesje równoległe: \n\n\n\nPre-pre-award – rozwój talentów i ścieżek kariery dla przyszłych RMA\,Pre-award – „od pomysłu do wniosku” i dopasowanie do priorytetów UE\,Post-award – sprawna i zgodna realizacja projektu\n\n\n\nFocused Session 1: narzędzia cyfrowe do współpracy i zarządzania – pokaz rozwiązań i wymiana doświadczeń użytkowników. \n\n\n\nDzień 2 – Deep Dives into Research Management Phases\n\n\n\nSesje równoległe: \n\n\n\nPre-pre-award – soft skills (komunikacja\, przywództwo\, negocjacje)\,Pre-award – budżetowanie i planowanie finansowe\,Post-award – impact i raportowanie wyników\n\n\n\nSesja plenarna: Best Practices in Research Management – przeniesienie sprawdzonych modeli na realia CEE – oraz dyskusja o współpracy transgranicznej\, wsparciu regionalnym i wspólnych rozwiązaniach. \n\n\n\nFocused Session 2: AI w badaniach – praktyczne narzędzia i gotowość instytucjonalna\, w tym aspekty etyczne i zarządcze.. \n\n\n\nWydarzenie skierowane jest do menedżerów i administratorów badań z uniwersytetów\, instytucji badawczych i centrów innowacji w Europie Środkowo-Wschodniej\, którzy byli uczestnikami dotychczasowych edycji V4 Training for Research Managers\, organizowanych cyklicznie w Brukseli przez Biuro PolSCA oraz partnerów z Czech\, Słowacji i Węgier.  \n\n\n\nDlaczego to ważne?  \n\n\n\nProfesjonalizacja zawodu i karier RMA. Program łączy kompetencje techniczne (scoping\, budżet\, wdrożenie\, raportowanie) z kompetencjami przekrojowymi (soft skills\, narzędzia cyfrowe\, AI)\, wspierając budowę stabilnych ścieżek i struktur wsparcia w instytucjach.Zwiększanie skuteczności projektów. Przejście przez cały „lifecycle” z naciskiem na praktykę przekłada się na wyższą jakość wniosków\, lepsze zarządzanie ryzykiem i budżetem oraz bardziej wiarygodne dowodzenie wpływu (impact).Wkład w Europejską Przestrzeń Badawczą (ERA). Skoordynowane działania\, wymiana wiedzy i rozbudowa sieci w regionie CEE wzmacniają spójność i konkurencyjność europejską. Partnerstwo z EARMA podkreśla łączność agendy kongresu z procesami profesjonalizacji na poziomie UE.Widoczne forum regionu CEE. To „oddolna” przestrzeń współtworzona przez społeczność\, w której instytucje mogą budować długofalowe partnerstwa i wspólne rozwiązania (np. w obszarze narzędzi cyfrowych czy AI)\n\n\n\nProgram wydarzenia: TUTAJ \n\n\n\nKontakt dla mediów: Łukasz Pieczonka (PolSCA) – lukasz.pieczonka@polsca.pam.pl \n\n\n\nTUTAJ znajdziesz link do podsumowania warsztatów
URL:https://polsca.pan.pl/events/i-kongres-menedzerow-badan-naukowych-europy-srodkowej-i-wschodniej/
LOCATION:NAŁĘCZ INSTITUTE OF BIOCYBERNETICS AND BIOMEDICAL ENGINEERING PAS\, UL. KSIĘCIA TROJDENA 4\, WARSAW\, 02-109\, Poland
GEO:50.8369933;4.3704063
X-APPLE-STRUCTURED-LOCATION;VALUE=URI;X-ADDRESS=NAŁĘCZ INSTITUTE OF BIOCYBERNETICS AND BIOMEDICAL ENGINEERING PAS UL. KSIĘCIA TROJDENA 4 WARSAW 02-109 Poland;X-APPLE-RADIUS=500;X-TITLE=UL. KSIĘCIA TROJDENA 4:geo:4.3704063,50.8369933
END:VEVENT
BEGIN:VEVENT
DTSTART;TZID=Europe/Warsaw:20251120T000000
DTEND;TZID=Europe/Warsaw:20251120T235959
DTSTAMP:20260423T010308
CREATED:20250723T111555Z
LAST-MODIFIED:20260122T104830Z
UID:13575-1763596800-1763683199@polsca.pan.pl
SUMMARY:Match-making MEDIA\, MIGRACJE i EDUKACJA
DESCRIPTION:Wydarzenie promujące współpracę w ramach Klastra 2 HE na lata 2026-2027!\n\n\n\n\n\n\n\n\n\nBiuro PolSCA we współpracy z biurami łącznikowymi IGLO w Brukseli reprezentującymi łącznie 12 państw członkowskich\, tj. Austrię\, Czechy\, Francję\, Włochy\, Łotwę\, Litwę\, Polskę\, Słowację i Hiszpanię z udziałem przedstawicieli z Niemiec\, Holandii i Wielkiej Brytanii organizuje spotkanie matchmakingowe dla osób zainteresowanych nadchodzącymi zaproszeniami do składania projektów\, które zostaną opublikowane w ramach Programu Pracy 2026-2027 – Klaster 2. Wydarzenie odbędzie się osobiście w Brukseli 20 listopada 2025 r. i skupi się na tematach związanych z mediami\, migracją i edukacją. \n\n\n\n\n\n\n\nOrganizatorzy wybrali 12 tematów na podstawie projektu Programu Pracy 2026-2027 oficjalnie udostępnionego przez Komisję Europejską w Comitology Register (zobacz dokument).  \n\n\n\nDla kogo?  \n\n\n\nWydarzenie skierowane jest do naukowców oraz innych osób zaangażowanych lub planujących zaangażowanie w ramach programu ramowego Horyzont Europa. Jeśli planujesz więc złożenie wniosku w naborze 2026 w obszarze tematycznym media\, migracje i edukacja\, nie czekaj i zarejestruj się na wydarzenie! Osoba uczestnicząca w spotkaniu match-makingowym powinna być w stanie zaangażować się w dyskusje techniczne na temat przedstawionych pomysłów na projekt lub wiedzy specjalistycznej wniesionej do konsorcjum. \n\n\n\nRejestracja – ZAMKNIĘTA \n\n\n\nNa wydarzenie obowiązuje rejestracja\, która trwa do 7 września 2025. Ponieważ liczba dostępnych miejsc jest ograniczona do 5-7 osób na kraj\, wybierzemy uczestników na podstawie informacji podanych w formularzu rejestracyjnym. \n\n\n\nAgenda wydarzenia – pobierz \n\n\n\nWydarzenie match-makingowe oferuje możliwość:• zaprezentowania swojej instytucji\,• nawiązania nowych kontaktów z przedstawicielami zagranicznych uczelni i instytucji badawczych\,• omówienia potencjalnych możliwości współpracy przy projektach z partnerami z Hiszpanii\, Francji\, Austrii\, Łotwy\, Litwy\, Słowacji\, Włoch i Czech. \n\n\n\nSprawdź podsumowanie wydarzenia
URL:https://polsca.pan.pl/events/match-making-media-migracje-i-edukacja/
LOCATION:NAŁĘCZ INSTITUTE OF BIOCYBERNETICS AND BIOMEDICAL ENGINEERING PAS\, UL. KSIĘCIA TROJDENA 4\, WARSAW\, 02-109\, Poland
GEO:50.8369933;4.3704063
X-APPLE-STRUCTURED-LOCATION;VALUE=URI;X-ADDRESS=NAŁĘCZ INSTITUTE OF BIOCYBERNETICS AND BIOMEDICAL ENGINEERING PAS UL. KSIĘCIA TROJDENA 4 WARSAW 02-109 Poland;X-APPLE-RADIUS=500;X-TITLE=UL. KSIĘCIA TROJDENA 4:geo:4.3704063,50.8369933
END:VEVENT
BEGIN:VEVENT
DTSTART;TZID=Europe/Warsaw:20251128T093000
DTEND;TZID=Europe/Warsaw:20251128T110000
DTSTAMP:20260423T010308
CREATED:20251118T133136Z
LAST-MODIFIED:20251118T133159Z
UID:14058-1764322200-1764327600@polsca.pan.pl
SUMMARY:Horizon Europe Navigators Meetup: nowy program ramowy FP10
DESCRIPTION:Webinarium na temat kolejnego programu ramowego – „Horyzont Europa 2028–2034”\n\n\n\n\n\n\n\n\n\nRok 2025 będzie przełomowy dla europejskiego środowiska badań naukowych i innowacji – zostanie wtedy opublikowana propozycja Komisji Europejskiej dotycząca kolejnego programu ramowego w zakresie badań naukowych i innowacji (FP10) na lata 2028–2034. \n\n\n\nPodczas webinarium omówimy główne elementy wniosku FP10\, zapoznamy się z jego najważniejszymi nowościami i aspektami ciągłości oraz przedyskutujemy\, jak społeczność badawczo-rozwojowa – w tym uczelnie i organizacje prowadzące badania naukowe – postrzega te nowe ramy. Oprócz stałych członków sieci HE Navigators\, spotkanie będzie otwarte dla kierownictwa Akademii\, w tym kierownictwa naukowego 67 instytutów PAS oraz Rady Naukowejej PolSCA. \n\n\n\nAgenda
URL:https://polsca.pan.pl/events/horizon-europe-navigators-meetup-nowy-prgram-ramowy-fp10/
LOCATION:NAŁĘCZ INSTITUTE OF BIOCYBERNETICS AND BIOMEDICAL ENGINEERING PAS\, UL. KSIĘCIA TROJDENA 4\, WARSAW\, 02-109\, Poland
GEO:50.8369933;4.3704063
X-APPLE-STRUCTURED-LOCATION;VALUE=URI;X-ADDRESS=NAŁĘCZ INSTITUTE OF BIOCYBERNETICS AND BIOMEDICAL ENGINEERING PAS UL. KSIĘCIA TROJDENA 4 WARSAW 02-109 Poland;X-APPLE-RADIUS=500;X-TITLE=UL. KSIĘCIA TROJDENA 4:geo:4.3704063,50.8369933
END:VEVENT
END:VCALENDAR