BEGIN:VCALENDAR
VERSION:2.0
PRODID:-//POLSCA - ECPv5.9.1//NONSGML v1.0//EN
CALSCALE:GREGORIAN
METHOD:PUBLISH
X-WR-CALNAME:POLSCA
X-ORIGINAL-URL:https://polsca.pan.pl
X-WR-CALDESC:Wydarzenia na POLSCA
BEGIN:VTIMEZONE
TZID:Europe/Warsaw
BEGIN:DAYLIGHT
TZOFFSETFROM:+0100
TZOFFSETTO:+0200
TZNAME:CEST
DTSTART:20230326T010000
END:DAYLIGHT
BEGIN:STANDARD
TZOFFSETFROM:+0200
TZOFFSETTO:+0100
TZNAME:CET
DTSTART:20231029T010000
END:STANDARD
END:VTIMEZONE
BEGIN:VEVENT
DTSTART;TZID=Europe/Warsaw:20230309T173000
DTEND;TZID=Europe/Warsaw:20230310T200000
DTSTAMP:20260422T133749
CREATED:20230209T114626Z
LAST-MODIFIED:20230223T145315Z
UID:10293-1678383000-1678478400@polsca.pan.pl
SUMMARY:Science: Polish Perspective Meetup 2023 w Brukseli
DESCRIPTION:Biuro PolSCA\, Fundacja Polonium\, Biuro Narodowego Centrum Badań i Rozwoju w Brukseli (NCBR – BSP) oraz Ambasada Polski w Królestwie Belgii serdecznie zapraszają naukowców do udziału w SPP Meetup 2023! Wydarzenie odbędzie się w Brukseli w dniach od 9 do 10 marca 2023. \n\n\n\n\n\n\n\n\n\n\n\nDo udziału w konferencji zapraszamy wszystkich naukowców polskiego pochodzenia mieszkających w krajach Beneluksu. Wydarzenie będzie doskonałą okazją do poszerzenia horyzontów w tematach zrównoważonego rozwoju\, zielonej transformacji\, a także roli nauki w odpowiedzialnym kształtowaniu polityki naukowej. Wydarzenie jest otwarte dla przedstawicieli wszystkich dyscyplin naukowych\, aby móc poznać wieloaspektową perspektywę społeczności badawczo-innowacyjnej. Aby dalej rozwijać ducha multidyscyplinarności\, konferencja zgromadzi naukowców i specjalistów zarówno ze środowisk akademickich\, jak i przemysłowych\, a także gości Komisji Europejskiej i instytucji dyplomatycznych. SPP w Brukseli będzie doskonałą okazją do nawiązania nowych kontaktów i wymiany doświadczeń. Wydarzenie będzie prowadzone w języku angielskim\, więc zapraszamy również uczestników innych narodowości \n\n\nREJESTRACJA jest już otwarta!  \n \n \nZapraszamy do śledzenia strony internetowej konferencji\, na której prezentujemy naszych prelegentów i szczegóły konferencji!
URL:https://polsca.pan.pl/events/science-polish-perspective-meetup-2023-w-brukseli/
END:VEVENT
END:VCALENDAR