BEGIN:VCALENDAR
VERSION:2.0
PRODID:-//POLSCA - ECPv5.9.1//NONSGML v1.0//EN
CALSCALE:GREGORIAN
METHOD:PUBLISH
X-WR-CALNAME:POLSCA
X-ORIGINAL-URL:https://polsca.pan.pl
X-WR-CALDESC:Wydarzenia na POLSCA
BEGIN:VTIMEZONE
TZID:Europe/Warsaw
BEGIN:DAYLIGHT
TZOFFSETFROM:+0100
TZOFFSETTO:+0200
TZNAME:CEST
DTSTART:20250330T010000
END:DAYLIGHT
BEGIN:STANDARD
TZOFFSETFROM:+0200
TZOFFSETTO:+0100
TZNAME:CET
DTSTART:20251026T010000
END:STANDARD
END:VTIMEZONE
BEGIN:VEVENT
DTSTART;TZID=Europe/Warsaw:20251016T100000
DTEND;TZID=Europe/Warsaw:20251016T113000
DTSTAMP:20260423T080105
CREATED:20250924T104408Z
LAST-MODIFIED:20251021T082822Z
UID:13740-1760608800-1760614200@polsca.pan.pl
SUMMARY:Horizon Europe Navigators MeetUp: Granty na Eurogranty w PARP – część II
DESCRIPTION:Kontynuując czerwcowe spotkanie w ramach sieci Horizon Europe Navigators\, zapraszamy na drugą odsłonę webinarium poświęconego krajowym mechanizmom wsparcia uczestnictwa w programach europejskich. \n\n\n\n \n\n\n\nTym razem skupimy się na praktycznym wykorzystaniu instrumentu „Granty na Eurogranty”\, oferowanego przez Polską Agencję Rozwoju Przedsiębiorczości w ramach działania FENG.02.12. Uczestnicy spotkania dowiedzą się m.in. jakie są warunki udziału\, jak efektywnie przygotować wniosek\, a także poznają praktyczne wskazówki dla instytutów Polskiej Akademii Nauk przygotowujących się do udziału w konkursach programu Horyzont Europa. \n\n\n\nWarsztaty są organizowane w ramach sieci Horizon Europe Navigators – inicjatywy Biura PolSCA\, zainaugurowanej w 2021 roku w synergii z programem PASIFIC. Sieć zrzesza menedżerów nauki z 62 instytutów i kilku jednostek pomocniczych PAN\, wspierając wymianę dobrych praktyk i budowanie kompetencji związanych z programem Horyzont Europa. Regularne spotkania i szkolenia w ramach HE Navigators sprzyjają wzmacnianiu udziału instytutów PAN w projektach europejskich. \n\n\n\nW programie znajdzie się także interaktywna sesja pytań i odpowiedzi oraz wymiana doświadczeń pomiędzy instytutami PAN. \n\n\n\nAGENDA \n\n\n\nPREZENTACJA Z WEBINARIUM
URL:https://polsca.pan.pl/events/horizon-europe-navigators-meetupgranty-na-eurogranty-w-parp-czesc-ii/
LOCATION:NAŁĘCZ INSTITUTE OF BIOCYBERNETICS AND BIOMEDICAL ENGINEERING PAS\, UL. KSIĘCIA TROJDENA 4\, WARSAW\, 02-109\, Poland
GEO:50.8369933;4.3704063
X-APPLE-STRUCTURED-LOCATION;VALUE=URI;X-ADDRESS=NAŁĘCZ INSTITUTE OF BIOCYBERNETICS AND BIOMEDICAL ENGINEERING PAS UL. KSIĘCIA TROJDENA 4 WARSAW 02-109 Poland;X-APPLE-RADIUS=500;X-TITLE=UL. KSIĘCIA TROJDENA 4:geo:4.3704063,50.8369933
END:VEVENT
BEGIN:VEVENT
DTSTART;TZID=Europe/Warsaw:20251017T093000
DTEND;TZID=Europe/Warsaw:20251017T170000
DTSTAMP:20260423T080105
CREATED:20250924T082728Z
LAST-MODIFIED:20251007T120948Z
UID:13727-1760693400-1760720400@polsca.pan.pl
SUMMARY:Standing on the Shoulders of Giants. Polish Scientists and Scholars in Europe – Legacy and the Present
DESCRIPTION:Polska Akademia Nauk – Stacja Naukowa w Paryżu\, wraz ze stacjami zagranicznymi PAN w Brukseli\, Rzymie\, Berlinie\, Wiedniu i Kijowie\, zaprasza na wyjątkowe wydarzenie poświęcone polskim naukowcom\, których dorobek kształtował i nadal wpływa na rozwój europejskiej nauki.  \n\n\n\nSpotkanie połączy refleksję nad inspirującymi postaciami przeszłości z rozmową o wyzwaniach współczesnych badaczy. Towarzysząca wydarzeniu wystawa – przygotowana z okazji polskiej Prezydencji w Radzie UE – ukaże sylwetki wybitnych naukowców oraz ich następców\, podkreślając związki polskiej nauki z priorytetami europejskich polityk badawczo-rozwojowych\, w tym programu Horyzont Europa.  \n\n\n\nPremiera wysytawy miała miejsce podczas konferencji „Transnational Science Cooperation: Fostering Collaborative Research in Europe and Poland”\, zorganizowanej przez NAWA w dniach 23–24 czerwca 2025 r. w Brukseli. Zobacz relację z inauguracji wystawy w Brukseli tutaj. \n\n\n\nW wydarzeniu udział wezmą wybitni przedstawiciele instytutów Polskiej Akademii Nauk\, których sylwetki zostały zaprezentowane na wystawie\, m.in.:  \n\n\n\nProf. Maciej Górny\, Instytut Historii im. Tadeusza Manteuffla PAN Prof. Monika Kusiak\, Instytut Geofizyki PAN Prof. Janusz Lewiński\, Instytut Chemii Fizycznej PANProf. Paweł Olko\, Instytut Fizyki Jądrowej PAN \n\n\n\nWięcej szczegółów dotyczących wydarzenia na stronie internetowej Stacji Naukowej PAN w Paryżu tutaj. \n\n\n\nLINK DO REJESTRACJI \n\n\n\nAGENDA WYDARZENIA
URL:https://polsca.pan.pl/events/standing-on-the-shoulders-of-giants-polish-scientists-and-scholars-in-europe-legacy-and-the-present/
LOCATION:NAŁĘCZ INSTITUTE OF BIOCYBERNETICS AND BIOMEDICAL ENGINEERING PAS\, UL. KSIĘCIA TROJDENA 4\, WARSAW\, 02-109\, Poland
GEO:50.8369933;4.3704063
X-APPLE-STRUCTURED-LOCATION;VALUE=URI;X-ADDRESS=NAŁĘCZ INSTITUTE OF BIOCYBERNETICS AND BIOMEDICAL ENGINEERING PAS UL. KSIĘCIA TROJDENA 4 WARSAW 02-109 Poland;X-APPLE-RADIUS=500;X-TITLE=UL. KSIĘCIA TROJDENA 4:geo:4.3704063,50.8369933
END:VEVENT
END:VCALENDAR